Workbook

Sheet Rekapitulácia stavby
A1: Export Komplet | BA1: 2.0 | BT1: False | BU1: False | BV1: {2dac7def-fc3b-4727-b8cb-bc2bec97dea1}
AR2: >> skryté stĺpce << | BS2: 0,01 | BT2: 20
BS3: 0,01 | BT3: 20
D4: REKAPITULÁCIA STAVBY | AS4: v --- nižšie sa nachádzajú doplnkové a pomocné údaje k zostavám --- v | BS4: 0,001
D5: Kód: | K5: 2024_DH_03 | BS5: 0,01
D6: Stavba: | K6: PSBU - Podbanské, Rekreačný objekt | BS6: 0,01
D7: JKSO: | AK7: KS: | BS7: 0,01
D8: Miesto: | K8: Pribylina | AK8: Dátum: | AN8: 1. 3. 2024 | BS8: 0,01
BS9: 0,01
D10: Objednávateľ: | AK10: IČO: | BS10: 0,01
E11: PSBU | AK11: IČ DPH: | BS11: 0,01
BS12: 0,01
D13: Zhotoviteľ: | AK13: IČO: | BS13: 0,01
E14: Na základe výberového konania | AK14: IČ DPH: | BS14: 0,01
BS15: False
D16: Projektant: | AK16: IČO: | BS16: False
E17: Mgr. Art. Matej BLAŽEK | AK17: IČ DPH: | BS17: True
BS18: 0,01
D19: Spracovateľ: | AK19: IČO: | BS19: 0,01
AK20: IČ DPH: | BS20: True
D22: Poznámka:
D26: Náklady z rozpočtov | AK26: =ROUND(AG94,2) -> 251964.85
D27: Ostatné náklady zo súhrnného listu | AK27: =ROUND(AG100, 2) -> 0
D29: Cena bez DPH | AK29: =ROUND(AK26 + AK27, 2) -> 251964.85
L31: Sadzba dane | W31: Základ dane | AK31: Výška dane
D32: DPH | F32: základná | L32: 0.2 | W32: =ROUND(AZ94 + SUM(CD100), 2) -> 0 | AK32: =ROUND(AV94 + SUM(BY100), 2) -> 0
F33: znížená | L33: 0.2 | W33: =ROUND(BA94 + SUM(CE100), 2) -> 251964.85 | AK33: =ROUND(AW94 + SUM(BZ100), 2) -> 50392.97
F34: zákl. prenesená | L34: 0.2 | W34: =ROUND(BB94 + SUM(CF100), 2) -> 0 | AK34: 0
F35: zníž. prenesená | L35: 0.2 | W35: =ROUND(BC94 + SUM(CG100), 2) -> 0 | AK35: 0
F36: nulová | L36: 0 | W36: =ROUND(BD94 + SUM(CH100), 2) -> 0 | AK36: 0
D38: Cena s DPH | T38: v | X38: EUR | AK38: =SUM(AK29:AK36) -> 302357.82
D49: Projektant | AH49: Spracovateľ
D60: Dátum a podpis: | V60: Pečiatka | AH60: Dátum a podpis: | AM60: Pečiatka
D64: Objednávateľ | AH64: Zhotoviteľ
D75: Dátum a podpis: | V75: Pečiatka | AH75: Dátum a podpis: | AM75: Pečiatka
C82: REKAPITULÁCIA OBJEKTOV STAVBY
C84: Kód: | L84: =K5 -> 2024_DH_03
C85: Stavba: | L85: =K6 -> PSBU - Podbanské, Rekreačný objekt
C87: Miesto: | L87: =IF(K8="","",K8) -> Pribylina | AI87: Dátum: | AM87: =IF(AN8= "","",AN8) -> 1. 3. 2024
C89: Objednávateľ: | L89: =IF(E11= "","",E11) -> PSBU | AI89: Projektant: | AM89: =IF(E17="","",E17) -> Mgr. Art. Matej BLAŽEK | AS89: Informatívne údaje z listov zákaziek
...

Sheet 2024_DH_03 - PSBU - Podba...
L2: >> skryté stĺpce << | AT2: {2dac7def-fc3b-4727-b8cb-bc2bec97dea1}
AT3: 0
D4: KRYCÍ LIST ROZPOČTU | M4: v --- nižšie sa nachádzajú doplnkové a pomocné údaje k zostavám --- v | AT4: False
D6: Stavba:
E7: PSBU - Podbanské, Rekreačný objekt
D9: JKSO: | I9: KS:
D10: Miesto: | F10: Pribylina | I10: Dátum: | J10: ='Rekapitulácia stavby'!AN8 -> 1. 3. 2024
D12: Objednávateľ: | I12: IČO:
E13: PSBU | I13: IČ DPH:
D15: Zhotoviteľ: | I15: IČO:
E16: Na základe výberového konania | I16: IČ DPH:
D18: Projektant: | I18: IČO:
E19: Mgr. Art. Matej BLAŽEK | I19: IČ DPH:
D21: Spracovateľ: | I21: IČO: | J21: =IF('Rekapitulácia stavby'!AN19="","",'Rekapitulácia stavby'!AN19)
E22: =IF('Rekapitulácia stavby'!E20="","",'Rekapitulácia stavby'!E20) | I22: IČ DPH: | J22: =IF('Rekapitulácia stavby'!AN20="","",'Rekapitulácia stavby'!AN20)
D24: Poznámka:
D28: Náklady z rozpočtu | J28: =J94 -> 205803.97
D29: Ostatné náklady | J29: =J124 -> 0
D30: Cena bez DPH | J30: =ROUND(J28 + J29, 2) -> 205803.97
F32: Základ dane | I32: Sadzba dane | J32: Výška dane
D33: DPH | E33: základná | F33: =ROUND((SUM(BE124:BE125) + SUM(BE143:BE611)), 2) -> 0 | I33: 0.2 | J33: =ROUND(((SUM(BE124:BE125) + SUM(BE143:BE611))*I33), 2) -> 0
E34: znížená | F34: =ROUND((SUM(BF124:BF125) + SUM(BF143:BF611)), 2) -> 205803.97 | I34: 0.2 | J34: =ROUND(((SUM(BF124:BF125) + SUM(BF143:BF611))*I34), 2) -> 41160.79
E35: zákl. prenesená | F35: =ROUND((SUM(BG124:BG125) + SUM(BG143:BG611)), 2) -> 0 | I35: 0.2 | J35: =0 -> 0
E36: zníž. prenesená | F36: =ROUND((SUM(BH124:BH125) + SUM(BH143:BH611)), 2) -> 0 | I36: 0.2 | J36: =0 -> 0
E37: nulová | F37: =ROUND((SUM(BI124:BI125) + SUM(BI143:BI611)), 2) -> 0 | I37: 0 | J37: =0 -> 0
D39: Cena s DPH | G39: v | H39: EUR | J39: =SUM(J30:J37) -> 246964.76
D50: Projektant | G50: Spracovateľ
D61: Dátum a podpis: | F61: Pečiatka | G61: Dátum a podpis: | J61: Pečiatka
D65: Objednávateľ | G65: Zhotoviteľ
D76: Dátum a podpis: | F76: Pečiatka | G76: Dátum a podpis: | J76: Pečiatka
C82: REKAPITULÁCIA ROZPOČTU
C84: Stavba:
E85: =E7 -> PSBU - Podbanské, Rekreačný objekt
C87: Miesto: | F87: =F10 -> Pribylina | I87: Dátum: | J87: =IF(J10="","",J10) -> 1. 3. 2024
C89: Objednávateľ: | F89: =E13 -> PSBU | I89: Projektant: | J89: =E19 -> Mgr. Art. Matej BLAŽEK
C90: Zhotoviteľ: | F90: =IF(E16="","",E16) -> Na základe výberového konania | I90: Spracovateľ: | J90: =E22
C92: Kód dielu - Popis | J92: Cena celkom [EUR]
C94: 1) Náklady z rozpočtu | J94: =J143 -> 205803.97 | AU94: -1
D95: HSV - Práce a dodávky HSV | J95: =J144 -> 54896.57
D96: 1 - Zemné práce | J96: =J145 -> 9877.04
...

Sheet 2024_DH_03.1 - Vonkajší v...
L2: >> skryté stĺpce << | AT2: {229b92ef-a561-41c4-b04a-45834d8de601}
AT3: 0
D4: KRYCÍ LIST ROZPOČTU | M4: v --- nižšie sa nachádzajú doplnkové a pomocné údaje k zostavám --- v | AT4: False
D6: Stavba:
E7: ='Rekapitulácia stavby'!K6 -> PSBU - Podbanské, Rekreačný objekt
D8: Objekt:
E9: 2024_DH_03.1 - Vonkajší vodovod a kanalizácia
D11: JKSO: | I11: KS:
D12: Miesto: | F12: Pribylina | I12: Dátum: | J12: ='Rekapitulácia stavby'!AN8 -> 1. 3. 2024
D14: Objednávateľ: | I14: IČO:
E15: PSBU | I15: IČ DPH:
D17: Zhotoviteľ: | I17: IČO:
E18: Na základe výberového konania | I18: IČ DPH:
D20: Projektant: | I20: IČO:
E21: Mgr. Art. Matej BLAŽEK | I21: IČ DPH:
D23: Spracovateľ: | I23: IČO: | J23: =IF('Rekapitulácia stavby'!AN19="","",'Rekapitulácia stavby'!AN19)
E24: =IF('Rekapitulácia stavby'!E20="","",'Rekapitulácia stavby'!E20) | I24: IČ DPH: | J24: =IF('Rekapitulácia stavby'!AN20="","",'Rekapitulácia stavby'!AN20)
D26: Poznámka:
D30: Náklady z rozpočtu | J30: =J96 -> 16295.92
D31: Ostatné náklady | J31: =J105 -> 0
D32: Cena bez DPH | J32: =ROUND(J30 + J31, 2) -> 16295.92
F34: Základ dane | I34: Sadzba dane | J34: Výška dane
D35: DPH | E35: základná | F35: =ROUND((SUM(BE105:BE106) + SUM(BE126:BE162)), 2) -> 0 | I35: 0.2 | J35: =ROUND(((SUM(BE105:BE106) + SUM(BE126:BE162))*I35), 2) -> 0
E36: znížená | F36: =ROUND((SUM(BF105:BF106) + SUM(BF126:BF162)), 2) -> 16295.92 | I36: 0.2 | J36: =ROUND(((SUM(BF105:BF106) + SUM(BF126:BF162))*I36), 2) -> 3259.18
E37: zákl. prenesená | F37: =ROUND((SUM(BG105:BG106) + SUM(BG126:BG162)), 2) -> 0 | I37: 0.2 | J37: =0 -> 0
E38: zníž. prenesená | F38: =ROUND((SUM(BH105:BH106) + SUM(BH126:BH162)), 2) -> 0 | I38: 0.2 | J38: =0 -> 0
E39: nulová | F39: =ROUND((SUM(BI105:BI106) + SUM(BI126:BI162)), 2) -> 0 | I39: 0 | J39: =0 -> 0
D41: Cena s DPH | G41: v | H41: EUR | J41: =SUM(J32:J39) -> 19555.1
D50: Projektant | G50: Spracovateľ
D61: Dátum a podpis: | F61: Pečiatka | G61: Dátum a podpis: | J61: Pečiatka
D65: Objednávateľ | G65: Zhotoviteľ
D76: Dátum a podpis: | F76: Pečiatka | G76: Dátum a podpis: | J76: Pečiatka
C82: REKAPITULÁCIA ROZPOČTU
C84: Stavba:
E85: =E7 -> PSBU - Podbanské, Rekreačný objekt
C86: Objekt:
E87: =E9 -> 2024_DH_03.1 - Vonkajší vodovod a kanalizácia
C89: Miesto: | F89: =F12 -> Pribylina | I89: Dátum: | J89: =IF(J12="","",J12) -> 1. 3. 2024
C91: Objednávateľ: | F91: =E15 -> PSBU | I91: Projektant: | J91: =E21 -> Mgr. Art. Matej BLAŽEK
C92: Zhotoviteľ: | F92: =IF(E18="","",E18) -> Na základe výberového konania | I92: Spracovateľ: | J92: =E24
...

Sheet 2024_DH_03.2 - Elektrická...
L2: >> skryté stĺpce << | AT2: {52f1929e-5698-4f52-a598-c29da5862bd4}
AT3: 0
D4: KRYCÍ LIST ROZPOČTU | M4: v --- nižšie sa nachádzajú doplnkové a pomocné údaje k zostavám --- v | AT4: False
D6: Stavba:
E7: ='Rekapitulácia stavby'!K6 -> PSBU - Podbanské, Rekreačný objekt
D8: Objekt:
E9: 2024_DH_03.2 - Elektrická prípojka
D11: JKSO: | I11: KS:
D12: Miesto: | F12: Pribylina | I12: Dátum: | J12: ='Rekapitulácia stavby'!AN8 -> 1. 3. 2024
D14: Objednávateľ: | I14: IČO:
E15: PSBU | I15: IČ DPH:
D17: Zhotoviteľ: | I17: IČO:
E18: Na základe výberového konania | I18: IČ DPH:
D20: Projektant: | I20: IČO:
E21: Mgr. Art. Matej BLAŽEK | I21: IČ DPH:
D23: Spracovateľ: | I23: IČO: | J23: =IF('Rekapitulácia stavby'!AN19="","",'Rekapitulácia stavby'!AN19)
E24: =IF('Rekapitulácia stavby'!E20="","",'Rekapitulácia stavby'!E20) | I24: IČ DPH: | J24: =IF('Rekapitulácia stavby'!AN20="","",'Rekapitulácia stavby'!AN20)
D26: Poznámka:
D30: Náklady z rozpočtu | J30: =J96 -> 11059.96
D31: Ostatné náklady | J31: =J103 -> 0
D32: Cena bez DPH | J32: =ROUND(J30 + J31, 2) -> 11059.96
F34: Základ dane | I34: Sadzba dane | J34: Výška dane
D35: DPH | E35: základná | F35: =ROUND((SUM(BE103:BE104) + SUM(BE124:BE151)), 2) -> 0 | I35: 0.2 | J35: =ROUND(((SUM(BE103:BE104) + SUM(BE124:BE151))*I35), 2) -> 0
E36: znížená | F36: =ROUND((SUM(BF103:BF104) + SUM(BF124:BF151)), 2) -> 11059.96 | I36: 0.2 | J36: =ROUND(((SUM(BF103:BF104) + SUM(BF124:BF151))*I36), 2) -> 2211.99
E37: zákl. prenesená | F37: =ROUND((SUM(BG103:BG104) + SUM(BG124:BG151)), 2) -> 0 | I37: 0.2 | J37: =0 -> 0
E38: zníž. prenesená | F38: =ROUND((SUM(BH103:BH104) + SUM(BH124:BH151)), 2) -> 0 | I38: 0.2 | J38: =0 -> 0
E39: nulová | F39: =ROUND((SUM(BI103:BI104) + SUM(BI124:BI151)), 2) -> 0 | I39: 0 | J39: =0 -> 0
D41: Cena s DPH | G41: v | H41: EUR | J41: =SUM(J32:J39) -> 13271.95
D50: Projektant | G50: Spracovateľ
D61: Dátum a podpis: | F61: Pečiatka | G61: Dátum a podpis: | J61: Pečiatka
D65: Objednávateľ | G65: Zhotoviteľ
D76: Dátum a podpis: | F76: Pečiatka | G76: Dátum a podpis: | J76: Pečiatka
C82: REKAPITULÁCIA ROZPOČTU
C84: Stavba:
E85: =E7 -> PSBU - Podbanské, Rekreačný objekt
C86: Objekt:
E87: =E9 -> 2024_DH_03.2 - Elektrická prípojka
C89: Miesto: | F89: =F12 -> Pribylina | I89: Dátum: | J89: =IF(J12="","",J12) -> 1. 3. 2024
C91: Objednávateľ: | F91: =E15 -> PSBU | I91: Projektant: | J91: =E21 -> Mgr. Art. Matej BLAŽEK
C92: Zhotoviteľ: | F92: =IF(E18="","",E18) -> Na základe výberového konania | I92: Spracovateľ: | J92: =E24
...

Sheet 2024_DH_03.3 - Interiér
L2: >> skryté stĺpce << | AT2: {fbe858fa-05de-49db-abc4-7c594291975e}
AT3: 0
D4: KRYCÍ LIST ROZPOČTU | M4: v --- nižšie sa nachádzajú doplnkové a pomocné údaje k zostavám --- v | AT4: False
D6: Stavba:
E7: ='Rekapitulácia stavby'!K6 -> PSBU - Podbanské, Rekreačný objekt
D8: Objekt:
E9: 2024_DH_03.3 - Interiér
D11: JKSO: | I11: KS:
D12: Miesto: | F12: Pribylina | I12: Dátum: | J12: ='Rekapitulácia stavby'!AN8 -> 1. 3. 2024
D14: Objednávateľ: | I14: IČO:
E15: PSBU | I15: IČ DPH:
D17: Zhotoviteľ: | I17: IČO:
E18: Na základe výberového konania | I18: IČ DPH:
D20: Projektant: | I20: IČO:
E21: Mgr. Art. Matej BLAŽEK | I21: IČ DPH:
D23: Spracovateľ: | I23: IČO: | J23: =IF('Rekapitulácia stavby'!AN19="","",'Rekapitulácia stavby'!AN19)
E24: =IF('Rekapitulácia stavby'!E20="","",'Rekapitulácia stavby'!E20) | I24: IČ DPH: | J24: =IF('Rekapitulácia stavby'!AN20="","",'Rekapitulácia stavby'!AN20)
D26: Poznámka:
D30: Náklady z rozpočtu | J30: =J96 -> 18805
D31: Ostatné náklady | J31: =J101 -> 0
D32: Cena bez DPH | J32: =ROUND(J30 + J31, 2) -> 18805
F34: Základ dane | I34: Sadzba dane | J34: Výška dane
D35: DPH | E35: základná | F35: =ROUND((SUM(BE101:BE102) + SUM(BE122:BE134)), 2) -> 0 | I35: 0.2 | J35: =ROUND(((SUM(BE101:BE102) + SUM(BE122:BE134))*I35), 2) -> 0
E36: znížená | F36: =ROUND((SUM(BF101:BF102) + SUM(BF122:BF134)), 2) -> 18805 | I36: 0.2 | J36: =ROUND(((SUM(BF101:BF102) + SUM(BF122:BF134))*I36), 2) -> 3761
E37: zákl. prenesená | F37: =ROUND((SUM(BG101:BG102) + SUM(BG122:BG134)), 2) -> 0 | I37: 0.2 | J37: =0 -> 0
E38: zníž. prenesená | F38: =ROUND((SUM(BH101:BH102) + SUM(BH122:BH134)), 2) -> 0 | I38: 0.2 | J38: =0 -> 0
E39: nulová | F39: =ROUND((SUM(BI101:BI102) + SUM(BI122:BI134)), 2) -> 0 | I39: 0 | J39: =0 -> 0
D41: Cena s DPH | G41: v | H41: EUR | J41: =SUM(J32:J39) -> 22566
D50: Projektant | G50: Spracovateľ
D61: Dátum a podpis: | F61: Pečiatka | G61: Dátum a podpis: | J61: Pečiatka
D65: Objednávateľ | G65: Zhotoviteľ
D76: Dátum a podpis: | F76: Pečiatka | G76: Dátum a podpis: | J76: Pečiatka
C82: REKAPITULÁCIA ROZPOČTU
C84: Stavba:
E85: =E7 -> PSBU - Podbanské, Rekreačný objekt
C86: Objekt:
E87: =E9 -> 2024_DH_03.3 - Interiér
C89: Miesto: | F89: =F12 -> Pribylina | I89: Dátum: | J89: =IF(J12="","",J12) -> 1. 3. 2024
C91: Objednávateľ: | F91: =E15 -> PSBU | I91: Projektant: | J91: =E21 -> Mgr. Art. Matej BLAŽEK
C92: Zhotoviteľ: | F92: =IF(E18="","",E18) -> Na základe výberového konania | I92: Spracovateľ: | J92: =E24
...
