Workbook

Sheet Rekapitulácia stavby
A1: Export Komplet | BA1: 2.0 | BT1: False | BU1: False | BV1: {2dac7def-fc3b-4727-b8cb-bc2bec97dea1}
AR2: >> skryté stĺpce << | BS2: 0,01 | BT2: 20
BS3: 0,01 | BT3: 20
D4: REKAPITULÁCIA STAVBY | AS4: v --- nižšie sa nachádzajú doplnkové a pomocné údaje k zostavám --- v | BS4: 0,001
D5: Kód: | K5: 2024_DH_03 | BS5: 0,01
D6: Stavba: | K6: PSBU - Podbanské, Rekreačný objekt | BS6: 0,01
D7: JKSO: | AK7: KS: | BS7: 0,01
D8: Miesto: | K8: Pribylina | AK8: Dátum: | AN8: 1. 3. 2024 | BS8: 0,01
BS9: 0,01
D10: Objednávateľ: | AK10: IČO: | BS10: 0,01
E11: PSBU | AK11: IČ DPH: | BS11: 0,01
BS12: 0,01
D13: Zhotoviteľ: | AK13: IČO: | BS13: 0,01
E14: Na základe výberového konania | AK14: IČ DPH: | BS14: 0,01
BS15: False
D16: Projektant: | AK16: IČO: | BS16: False
E17: Mgr. Art. Matej BLAŽEK | AK17: IČ DPH: | BS17: True
BS18: 0,01
D19: Spracovateľ: | AK19: IČO: | BS19: 0,01
AK20: IČ DPH: | BS20: True
D22: Poznámka:
D26: Náklady z rozpočtov | AK26: =ROUND(AG94,2) -> 251964.85
D27: Ostatné náklady zo súhrnného listu | AK27: =ROUND(AG100, 2) -> 0
D29: Cena bez DPH | AK29: =ROUND(AK26 + AK27, 2) -> 251964.85
L31: Sadzba dane | W31: Základ dane | AK31: Výška dane
D32: DPH | F32: základná | L32: 0.2 | W32: =ROUND(AZ94 + SUM(CD100), 2) -> 0 | AK32: =ROUND(AV94 + SUM(BY100), 2) -> 0
F33: znížená | L33: 0.2 | W33: =ROUND(BA94 + SUM(CE100), 2) -> 251964.85 | AK33: =ROUND(AW94 + SUM(BZ100), 2) -> 50392.97
F34: zákl. prenesená | L34: 0.2 | W34: =ROUND(BB94 + SUM(CF100), 2) -> 0 | AK34: 0
F35: zníž. prenesená | L35: 0.2 | W35: =ROUND(BC94 + SUM(CG100), 2) -> 0 | AK35: 0
F36: nulová | L36: 0 | W36: =ROUND(BD94 + SUM(CH100), 2) -> 0 | AK36: 0
D38: Cena s DPH | T38: v | X38: EUR | AK38: =SUM(AK29:AK36) -> 302357.82
D49: Projektant | AH49: Spracovateľ
D60: Dátum a podpis: | V60: Pečiatka | AH60: Dátum a podpis: | AM60: Pečiatka
D64: Objednávateľ | AH64: Zhotoviteľ
D75: Dátum a podpis: | V75: Pečiatka | AH75: Dátum a podpis: | AM75: Pečiatka
C82: REKAPITULÁCIA OBJEKTOV STAVBY
C84: Kód: | L84: =K5 -> 2024_DH_03
C85: Stavba: | L85: =K6 -> PSBU - Podbanské, Rekreačný objekt
C87: Miesto: | L87: =IF(K8="","",K8) -> Pribylina | AI87: Dátum: | AM87: =IF(AN8= "","",AN8) -> 1. 3. 2024
C89: Objednávateľ: | L89: =IF(E11= "","",E11) -> PSBU | AI89: Projektant: | AM89: =IF(E17="","",E17) -> Mgr. Art. Matej BLAŽEK | AS89: Informatívne údaje z listov zákaziek
C90: Zhotoviteľ: | L90: =IF(E14="","",E14) -> Na základe výberového konania | AI90: Spracovateľ: | AM90: =IF(E20="","",E20)
C92: Kód | I92: Popis | AG92: Cena bez DPH [EUR] | AN92: Cena s DPH [EUR] | AQ92: Typ | AS92: z toho Ostat._x000D_ náklady [EUR] | AT92: DPH [EUR] | AU92: Normohodiny [h] | AV92: DPH základná [EUR] | AW92: DPH znížená [EUR] | AX92: DPH základná prenesená_x000D_ [EUR] | AY92: DPH znížená prenesená_x000D_ [EUR] | AZ92: Základňa_x000D_ DPH základná | BA92: Základňa_x000D_ DPH znížená | BB92: Základňa_x000D_ DPH zákl. prenesená | BC92: Základňa_x000D_ DPH zníž. prenesená | BD92: Základňa_x000D_ DPH nulová
C94: 1) Náklady z rozpočtov | AG94: =ROUND(SUM(AG95:AG98),2) -> 251964.85 | AN94: =SUM(AG94,AT94) -> 302357.82 | AS94: =ROUND(SUM(AS95:AS98),2) -> 0 | AT94: =ROUND(SUM(AV94:AW94),2) -> 50392.97 | AU94: =ROUND(SUM(AU95:AU98),5) -> 3806.9387 | AV94: =ROUND(AZ94*L32,2) -> 0 | AW94: =ROUND(BA94*L33,2) -> 50392.97 | AX94: =ROUND(BB94*L32,2) -> 0 | AY94: =ROUND(BC94*L33,2) -> 0 | AZ94: =ROUND(SUM(AZ95:AZ98),2) -> 0 | BA94: =ROUND(SUM(BA95:BA98),2) -> 251964.85 | BB94: =ROUND(SUM(BB95:BB98),2) -> 0 | BC94: =ROUND(SUM(BC95:BC98),2) -> 0 | BD94: =ROUND(SUM(BD95:BD98),2) -> 0 | BS94: D | BT94: 0 | BV94: IMPORT | BW94: {2dac7def-fc3b-4727-b8cb-bc2bec97dea1} | BX94: {00000000-0000-0000-0000-000000000000}
A95: / | D95: 2024_DH_03 | J95: PSBU - Podbanské, Rekreačný objekt | AG95: ='2024_DH_03 - PSBU - Podba...'!J30 -> 205803.97 | AN95: =SUM(AG95,AT95) -> 246964.76 | AQ95: STA | AS95: 0 | AT95: =ROUND(SUM(AV95:AW95),2) -> 41160.79 | AU95: ='2024_DH_03 - PSBU - Podba...'!P143 -> 3197.1442 | AV95: ='2024_DH_03 - PSBU - Podba...'!J33 -> 0 | AW95: ='2024_DH_03 - PSBU - Podba...'!J34 -> 41160.79 | AX95: ='2024_DH_03 - PSBU - Podba...'!J35 -> 0 | AY95: ='2024_DH_03 - PSBU - Podba...'!J36 -> 0 | AZ95: ='2024_DH_03 - PSBU - Podba...'!F33 -> 0 | BA95: ='2024_DH_03 - PSBU - Podba...'!F34 -> 205803.97 | BB95: ='2024_DH_03 - PSBU - Podba...'!F35 -> 0 | BC95: ='2024_DH_03 - PSBU - Podba...'!F36 -> 0 | BD95: ='2024_DH_03 - PSBU - Podba...'!F37 -> 0 | BT95: 1 | BU95: ###NOINSERT### | BV95: IMPORT | BW95: {2dac7def-fc3b-4727-b8cb-bc2bec97dea1} | BX95: {00000000-0000-0000-0000-000000000000}
A96: / | D96: 2024_DH_03.1 | J96: Vonkajší vodovod a kanalizácia | AG96: ='2024_DH_03.1 - Vonkajší v...'!J32 -> 16295.92 | AN96: =SUM(AG96,AT96) -> 19555.1 | AQ96: STA | AS96: 0 | AT96: =ROUND(SUM(AV96:AW96),2) -> 3259.18 | AU96: ='2024_DH_03.1 - Vonkajší v...'!P126 -> 239.86526 | AV96: ='2024_DH_03.1 - Vonkajší v...'!J35 -> 0 | AW96: ='2024_DH_03.1 - Vonkajší v...'!J36 -> 3259.18 | AX96: ='2024_DH_03.1 - Vonkajší v...'!J37 -> 0 | AY96: ='2024_DH_03.1 - Vonkajší v...'!J38 -> 0 | AZ96: ='2024_DH_03.1 - Vonkajší v...'!F35 -> 0 | BA96: ='2024_DH_03.1 - Vonkajší v...'!F36 -> 16295.92 | BB96: ='2024_DH_03.1 - Vonkajší v...'!F37 -> 0 | BC96: ='2024_DH_03.1 - Vonkajší v...'!F38 -> 0 | BD96: ='2024_DH_03.1 - Vonkajší v...'!F39 -> 0 | BT96: 1 | BV96: IMPORT | BW96: {229b92ef-a561-41c4-b04a-45834d8de601} | BX96: {2dac7def-fc3b-4727-b8cb-bc2bec97dea1} | CM96: 0
A97: / | D97: 2024_DH_03.2 | J97: Elektrická prípojka | AG97: ='2024_DH_03.2 - Elektrická...'!J32 -> 11059.96 | AN97: =SUM(AG97,AT97) -> 13271.95 | AQ97: STA | AS97: 0 | AT97: =ROUND(SUM(AV97:AW97),2) -> 2211.99 | AU97: ='2024_DH_03.2 - Elektrická...'!P124 -> 353.083 | AV97: ='2024_DH_03.2 - Elektrická...'!J35 -> 0 | AW97: ='2024_DH_03.2 - Elektrická...'!J36 -> 2211.99 | AX97: ='2024_DH_03.2 - Elektrická...'!J37 -> 0 | AY97: ='2024_DH_03.2 - Elektrická...'!J38 -> 0 | AZ97: ='2024_DH_03.2 - Elektrická...'!F35 -> 0 | BA97: ='2024_DH_03.2 - Elektrická...'!F36 -> 11059.96 | BB97: ='2024_DH_03.2 - Elektrická...'!F37 -> 0 | BC97: ='2024_DH_03.2 - Elektrická...'!F38 -> 0 | BD97: ='2024_DH_03.2 - Elektrická...'!F39 -> 0 | BT97: 1 | BV97: IMPORT | BW97: {52f1929e-5698-4f52-a598-c29da5862bd4} | BX97: {2dac7def-fc3b-4727-b8cb-bc2bec97dea1} | CM97: 0
A98: / | D98: 2024_DH_03.3 | J98: Interiér | AG98: ='2024_DH_03.3 - Interiér'!J32 -> 18805 | AN98: =SUM(AG98,AT98) -> 22566 | AQ98: STA | AS98: 0 | AT98: =ROUND(SUM(AV98:AW98),2) -> 3761 | AU98: ='2024_DH_03.3 - Interiér'!P122 -> 16.84615 | AV98: ='2024_DH_03.3 - Interiér'!J35 -> 0 | AW98: ='2024_DH_03.3 - Interiér'!J36 -> 3761 | AX98: ='2024_DH_03.3 - Interiér'!J37 -> 0 | AY98: ='2024_DH_03.3 - Interiér'!J38 -> 0 | AZ98: ='2024_DH_03.3 - Interiér'!F35 -> 0 | BA98: ='2024_DH_03.3 - Interiér'!F36 -> 18805 | BB98: ='2024_DH_03.3 - Interiér'!F37 -> 0 | BC98: ='2024_DH_03.3 - Interiér'!F38 -> 0 | BD98: ='2024_DH_03.3 - Interiér'!F39 -> 0 | BT98: 1 | BV98: IMPORT | BW98: {fbe858fa-05de-49db-abc4-7c594291975e} | BX98: {2dac7def-fc3b-4727-b8cb-bc2bec97dea1} | CM98: 0
C100: 2) Ostatné náklady zo súhrnného listu | AG100: 0 | AN100: 0 | AS100: Percent. zadanie_x000D_ [% nákladov rozpočtu] | AT100: Zaradenie nákladov | AU100: DPH | AV100: DPH [EUR]
C102: Celkové náklady za stavbu 1) + 2) | AG102: =ROUND(AG94 + AG100, 2) -> 251964.85 | AN102: =ROUND(AN94 + AN100, 2) -> 302357.82

Sheet 2024_DH_03 - PSBU - Podba...
L2: >> skryté stĺpce << | AT2: {2dac7def-fc3b-4727-b8cb-bc2bec97dea1}
AT3: 0
D4: KRYCÍ LIST ROZPOČTU | M4: v --- nižšie sa nachádzajú doplnkové a pomocné údaje k zostavám --- v | AT4: False
D6: Stavba:
E7: PSBU - Podbanské, Rekreačný objekt
D9: JKSO: | I9: KS:
D10: Miesto: | F10: Pribylina | I10: Dátum: | J10: ='Rekapitulácia stavby'!AN8 -> 1. 3. 2024
D12: Objednávateľ: | I12: IČO:
E13: PSBU | I13: IČ DPH:
D15: Zhotoviteľ: | I15: IČO:
E16: Na základe výberového konania | I16: IČ DPH:
D18: Projektant: | I18: IČO:
E19: Mgr. Art. Matej BLAŽEK | I19: IČ DPH:
D21: Spracovateľ: | I21: IČO: | J21: =IF('Rekapitulácia stavby'!AN19="","",'Rekapitulácia stavby'!AN19)
E22: =IF('Rekapitulácia stavby'!E20="","",'Rekapitulácia stavby'!E20) | I22: IČ DPH: | J22: =IF('Rekapitulácia stavby'!AN20="","",'Rekapitulácia stavby'!AN20)
D24: Poznámka:
D28: Náklady z rozpočtu | J28: =J94 -> 205803.97
D29: Ostatné náklady | J29: =J124 -> 0
D30: Cena bez DPH | J30: =ROUND(J28 + J29, 2) -> 205803.97
F32: Základ dane | I32: Sadzba dane | J32: Výška dane
D33: DPH | E33: základná | F33: =ROUND((SUM(BE124:BE125) + SUM(BE143:BE611)), 2) -> 0 | I33: 0.2 | J33: =ROUND(((SUM(BE124:BE125) + SUM(BE143:BE611))*I33), 2) -> 0
E34: znížená | F34: =ROUND((SUM(BF124:BF125) + SUM(BF143:BF611)), 2) -> 205803.97 | I34: 0.2 | J34: =ROUND(((SUM(BF124:BF125) + SUM(BF143:BF611))*I34), 2) -> 41160.79
E35: zákl. prenesená | F35: =ROUND((SUM(BG124:BG125) + SUM(BG143:BG611)), 2) -> 0 | I35: 0.2 | J35: =0 -> 0
E36: zníž. prenesená | F36: =ROUND((SUM(BH124:BH125) + SUM(BH143:BH611)), 2) -> 0 | I36: 0.2 | J36: =0 -> 0
E37: nulová | F37: =ROUND((SUM(BI124:BI125) + SUM(BI143:BI611)), 2) -> 0 | I37: 0 | J37: =0 -> 0
D39: Cena s DPH | G39: v | H39: EUR | J39: =SUM(J30:J37) -> 246964.76
D50: Projektant | G50: Spracovateľ
D61: Dátum a podpis: | F61: Pečiatka | G61: Dátum a podpis: | J61: Pečiatka
D65: Objednávateľ | G65: Zhotoviteľ
D76: Dátum a podpis: | F76: Pečiatka | G76: Dátum a podpis: | J76: Pečiatka
C82: REKAPITULÁCIA ROZPOČTU
C84: Stavba:
E85: =E7 -> PSBU - Podbanské, Rekreačný objekt
C87: Miesto: | F87: =F10 -> Pribylina | I87: Dátum: | J87: =IF(J10="","",J10) -> 1. 3. 2024
C89: Objednávateľ: | F89: =E13 -> PSBU | I89: Projektant: | J89: =E19 -> Mgr. Art. Matej BLAŽEK
C90: Zhotoviteľ: | F90: =IF(E16="","",E16) -> Na základe výberového konania | I90: Spracovateľ: | J90: =E22
C92: Kód dielu - Popis | J92: Cena celkom [EUR]
C94: 1) Náklady z rozpočtu | J94: =J143 -> 205803.97 | AU94: -1
D95: HSV - Práce a dodávky HSV | J95: =J144 -> 54896.57
D96: 1 - Zemné práce | J96: =J145 -> 9877.04
D97: 2 - Zakladanie | J97: =J166 -> 8730.85
D98: 3 - Zvislé a kompletné konštrukcie | J98: =J182 -> 12656.86
D99: 4 - Vodorovné konštrukcie | J99: =J190 -> 7147.48
D100: 5 - Komunikácie | J100: =J210 -> 665.04
D101: 6 - Úpravy povrchov, podlahy, osadenie | J101: =J213 -> 11250.69
D102: 99 - Presun hmôt HSV | J102: =J237 -> 4568.61
D103: PSV - Práce a dodávky PSV | J103: =J239 -> 133371.58
D104: 711 - Izolácie proti vode a vlhkosti | J104: =J240 -> 3154.59
D105: 712 - Izolácie striech, povlakové krytiny | J105: =J275 -> 642.2
D106: 713 - Izolácie tepelné | J106: =J280 -> 15845.89
D107: 721 - Zdravotechnika - vnútorná kanalizácia | J107: =J352 -> 1795.8
D108: 722 - Zdravotechnika - vnútorný vodovod | J108: =J360 -> 1862.11
D109: 725 - Zdravotechnika - zariaďovacie predmety | J109: =J371 -> 7195.05
D110: 762 - Konštrukcie tesárske | J110: =J397 -> 31170.9
D111: 763 - Konštrukcie - drevostavby | J111: =J448 -> 1355.4
D112: 764 - Konštrukcie klampiarske | J112: =J461 -> 10325.52
D113: 766 - Konštrukcie stolárske | J113: =J479 -> 28132.08
D114: 767 - Konštrukcie doplnkové kovové | J114: =J496 -> 17458.88
D115: 771 - Podlahy z dlaždíc | J115: =J501 -> 457.74
D116: 775 - Podlahy vlysové a parketové | J116: =J511 -> 5166.98
D117: 781 - Obklady | J117: =J522 -> 2865.91
D118: 783 - Nátery | J118: =J532 -> 5707.58
D119: 784 - Maľby | J119: =J552 -> 234.95
D120: M - Práce a dodávky M | J120: =J554 -> 17535.82
D121: 21-M - Elektromontáže | J121: =J555 -> 17535.82
C124: 2) Ostatné náklady | J124: 0 | N124: DPH
C126: Celkové náklady za stavbu 1) + 2) | J126: =ROUND(J94+J124,2) -> 205803.97
C132: ROZPOČET
C134: Stavba:
E135: =E7 -> PSBU - Podbanské, Rekreačný objekt
C137: Miesto: | F137: =F10 -> Pribylina | I137: Dátum: | J137: =IF(J10="","",J10) -> 1. 3. 2024
C139: Objednávateľ: | F139: =E13 -> PSBU | I139: Projektant: | J139: =E19 -> Mgr. Art. Matej BLAŽEK
C140: Zhotoviteľ: | F140: =IF(E16="","",E16) -> Na základe výberového konania | I140: Spracovateľ: | J140: =E22
C142: PČ | D142: Typ | E142: Kód | F142: Popis | G142: MJ | H142: Množstvo | I142: J.cena [EUR] | J142: Cena celkom [EUR] | K142: Cenová sústava | N142: DPH | O142: J. Nh [h] | P142: Nh celkom [h] | Q142: J. hmotnosť [t] | R142: Hmotnosť celkom [t] | S142: J. suť [t] | T142: Suť Celkom [t]
C143: Náklady z rozpočtu | J143: =BK143 -> 205803.97 | P143: =P144+P239+P554 -> 3197.1442 | R143: =R144+R239+R554 -> 287.92729 | T143: =T144+T239+T554 -> 0 | AT143: D | AU143: -1 | BK143: =BK144+BK239+BK554 -> 205803.97
D144: D | E144: HSV | F144: Práce a dodávky HSV | J144: =BK144 -> 54896.57 | P144: =P145+P166+P182+P190+P210+P213+P237 -> 1260.3067 | R144: =R145+R166+R182+R190+R210+R213+R237 -> 247.37973 | T144: =T145+T166+T182+T190+T210+T213+T237 -> 0 | AR144: 1 | AT144: D | AU144: 0 | AY144: ROZPOCET | BK144: =BK145+BK166+BK182+BK190+BK210+BK213+BK237 -> 54896.57
D145: D | E145: 1 | F145: Zemné práce | J145: =BK145 -> 9877.04 | P145: =SUM(P146:P165) -> 435.44498 | R145: =SUM(R146:R165) -> 0 | T145: =SUM(T146:T165) -> 0 | AR145: 1 | AT145: D | AU145: 1 | AY145: ROZPOCET | BK145: =SUM(BK146:BK165) -> 9877.04
C146: 1 | D146: K | E146: 131301102.S | F146: Výkop nezapaženej jamy v hornine 4, nad 100 do 1000 m3 | G146: m3 | H146: 394.185 | I146: 11.46 | J146: =ROUND(I146*H146,2) -> 4517.36 | N146: znížená | O146: 0.619 | P146: =O146*H146 -> 244.00052 | Q146: 0 | R146: =Q146*H146 -> 0 | S146: 0 | T146: =S146*H146 -> 0 | AR146: 4 | AT146: K | AU146: 2 | AY146: ROZPOCET | BE146: =IF(N146="základná",J146,0) -> 0 | BF146: =IF(N146="znížená",J146,0) -> 4517.36 | BG146: =IF(N146="zákl. prenesená",J146,0) -> 0 | BH146: =IF(N146="zníž. prenesená",J146,0) -> 0 | BI146: =IF(N146="nulová",J146,0) -> 0 | BJ146: 2 | BK146: =ROUND(I146*H146,2) -> 4517.36 | BL146: 4 | BM146: -1409476551
D147: VV | F147: 6,5*10*3,3+(6,5+10)*2*3,3*3,3/2 | H147: 394.185 | AT147: VV | AU147: 2 | AV147: 2 | AW147: True | AX147: 1 | AY147: ROZPOCET
C148: 2 | D148: K | E148: 132301101.S | F148: Výkop ryhy do šírky 600 mm v horn.4 do 100 m3 | G148: m3 | H148: 14.85 | I148: 79.91 | J148: =ROUND(I148*H148,2) -> 1186.66 | N148: znížená | O148: 4.2 | P148: =O148*H148 -> 62.37 | Q148: 0 | R148: =Q148*H148 -> 0 | S148: 0 | T148: =S148*H148 -> 0 | AR148: 4 | AT148: K | AU148: 2 | AY148: ROZPOCET | BE148: =IF(N148="základná",J148,0) -> 0 | BF148: =IF(N148="znížená",J148,0) -> 1186.66 | BG148: =IF(N148="zákl. prenesená",J148,0) -> 0 | BH148: =IF(N148="zníž. prenesená",J148,0) -> 0 | BI148: =IF(N148="nulová",J148,0) -> 0 | BJ148: 2 | BK148: =ROUND(I148*H148,2) -> 1186.66 | BL148: 4 | BM148: -413382999
D149: VV | F149: "zákl. pás" (10+6,5)*2*0,45*1 | H149: 14.85 | AT149: VV | AU149: 2 | AV149: 2 | AW149: True | AX149: 1 | AY149: ROZPOCET
C150: 3 | D150: K | E150: 162201102.S | F150: Vodorovné premiestnenie výkopku z horniny 1-4 nad 20-50m | G150: m3 | H150: 409.035 | I150: 2.04 | J150: =ROUND(I150*H150,2) -> 834.43 | N150: znížená | O150: 0.069 | P150: =O150*H150 -> 28.223415 | Q150: 0 | R150: =Q150*H150 -> 0 | S150: 0 | T150: =S150*H150 -> 0 | AR150: 4 | AT150: K | AU150: 2 | AY150: ROZPOCET | BE150: =IF(N150="základná",J150,0) -> 0 | BF150: =IF(N150="znížená",J150,0) -> 834.43 | BG150: =IF(N150="zákl. prenesená",J150,0) -> 0 | BH150: =IF(N150="zníž. prenesená",J150,0) -> 0 | BI150: =IF(N150="nulová",J150,0) -> 0 | BJ150: 2 | BK150: =ROUND(I150*H150,2) -> 834.43 | BL150: 4 | BM150: 275288266
D151: VV | F151: 394,185+14,85 | H151: 409.035 | AT151: VV | AU151: 2 | AV151: 2 | AW151: True | AX151: 1 | AY151: ROZPOCET
C152: 7 | D152: K | E152: 162201102.S | F152: Vodorovné premiestnenie výkopku z horniny 1-4 nad 20-50m | G152: m3 | H152: 179.685 | I152: 2.04 | J152: =ROUND(I152*H152,2) -> 366.56 | N152: znížená | O152: 0.069 | P152: =O152*H152 -> 12.398265 | Q152: 0 | R152: =Q152*H152 -> 0 | S152: 0 | T152: =S152*H152 -> 0 | AR152: 4 | AT152: K | AU152: 2 | AY152: ROZPOCET | BE152: =IF(N152="základná",J152,0) -> 0 | BF152: =IF(N152="znížená",J152,0) -> 366.56 | BG152: =IF(N152="zákl. prenesená",J152,0) -> 0 | BH152: =IF(N152="zníž. prenesená",J152,0) -> 0 | BI152: =IF(N152="nulová",J152,0) -> 0 | BJ152: 2 | BK152: =ROUND(I152*H152,2) -> 366.56 | BL152: 4 | BM152: -1062778501
C153: 4 | D153: K | E153: 162301101.S | F153: Vodorovné premiestnenie výkopku po spevnenej ceste z horniny tr.1-4, do 100 m3 na vzdialenosť do 500 m | G153: m3 | H153: 229.35 | I153: 2.05 | J153: =ROUND(I153*H153,2) -> 470.17 | N153: znížená | O153: 0.0269 | P153: =O153*H153 -> 6.169515 | Q153: 0 | R153: =Q153*H153 -> 0 | S153: 0 | T153: =S153*H153 -> 0 | AR153: 4 | AT153: K | AU153: 2 | AY153: ROZPOCET | BE153: =IF(N153="základná",J153,0) -> 0 | BF153: =IF(N153="znížená",J153,0) -> 470.17 | BG153: =IF(N153="zákl. prenesená",J153,0) -> 0 | BH153: =IF(N153="zníž. prenesená",J153,0) -> 0 | BI153: =IF(N153="nulová",J153,0) -> 0 | BJ153: 2 | BK153: =ROUND(I153*H153,2) -> 470.17 | BL153: 4 | BM153: 49603153
D154: VV | F154: 6,5*10*3,3 | H154: 214.5 | AT154: VV | AU154: 2 | AV154: 2 | AW154: True | AX154: 0 | AY154: ROZPOCET
D155: VV | F155: 14,85 | H155: 14.85 | AT155: VV | AU155: 2 | AV155: 2 | AW155: True | AX155: 0 | AY155: ROZPOCET
D156: VV | F156: Súčet | H156: 229.35 | AT156: VV | AU156: 2 | AV156: 4 | AW156: True | AX156: 1 | AY156: ROZPOCET
C157: 6 | D157: K | E157: 167101102.S | F157: Nakladanie neuľahnutého výkopku z hornín tr.1-4 nad 100 do 1000 m3 | G157: m3 | H157: 179.685 | I157: 2.43 | J157: =ROUND(I157*H157,2) -> 436.63 | N157: znížená | O157: 0.087 | P157: =O157*H157 -> 15.632595 | Q157: 0 | R157: =Q157*H157 -> 0 | S157: 0 | T157: =S157*H157 -> 0 | AR157: 4 | AT157: K | AU157: 2 | AY157: ROZPOCET | BE157: =IF(N157="základná",J157,0) -> 0 | BF157: =IF(N157="znížená",J157,0) -> 436.63 | BG157: =IF(N157="zákl. prenesená",J157,0) -> 0 | BH157: =IF(N157="zníž. prenesená",J157,0) -> 0 | BI157: =IF(N157="nulová",J157,0) -> 0 | BJ157: 2 | BK157: =ROUND(I157*H157,2) -> 436.63 | BL157: 4 | BM157: 994109944
D158: VV | F158: (6,5+10)*2*3,3*3,3/2 | H158: 179.685 | AT158: VV | AU158: 2 | AV158: 2 | AW158: True | AX158: 1 | AY158: ROZPOCET
C159: 5 | D159: K | E159: 171101103.S | F159: Uloženie sypaniny do násypu súdržnej horniny s mierou zhutnenia nad 96 do 100 % podľa Proctor-Standard | G159: m3 | H159: 179.685 | I159: 2.46 | J159: =ROUND(I159*H159,2) -> 442.03 | N159: znížená | O159: 0.055 | P159: =O159*H159 -> 9.882675 | Q159: 0 | R159: =Q159*H159 -> 0 | S159: 0 | T159: =S159*H159 -> 0 | AR159: 4 | AT159: K | AU159: 2 | AY159: ROZPOCET | BE159: =IF(N159="základná",J159,0) -> 0 | BF159: =IF(N159="znížená",J159,0) -> 442.03 | BG159: =IF(N159="zákl. prenesená",J159,0) -> 0 | BH159: =IF(N159="zníž. prenesená",J159,0) -> 0 | BI159: =IF(N159="nulová",J159,0) -> 0 | BJ159: 2 | BK159: =ROUND(I159*H159,2) -> 442.03 | BL159: 4 | BM159: 2137132211
D160: VV | F160: (6,5+10)*2*3,3*3,3/2 | H160: 179.685 | AT160: VV | AU160: 2 | AV160: 2 | AW160: True | AX160: 1 | AY160: ROZPOCET
C161: 256 | D161: K | E161: 175101202.S | F161: Obsyp objektov sypaninou z vhodných hornín 1 až 4 s prehodením sypaniny | G161: m3 | H161: 16 | I161: 44.45 | J161: =ROUND(I161*H161,2) -> 711.2 | N161: znížená | O161: 2.978 | P161: =O161*H161 -> 47.648 | Q161: 0 | R161: =Q161*H161 -> 0 | S161: 0 | T161: =S161*H161 -> 0 | AR161: 4 | AT161: K | AU161: 2 | AY161: ROZPOCET | BE161: =IF(N161="základná",J161,0) -> 0 | BF161: =IF(N161="znížená",J161,0) -> 711.2 | BG161: =IF(N161="zákl. prenesená",J161,0) -> 0 | BH161: =IF(N161="zníž. prenesená",J161,0) -> 0 | BI161: =IF(N161="nulová",J161,0) -> 0 | BJ161: 2 | BK161: =ROUND(I161*H161,2) -> 711.2 | BL161: 4 | BM161: -967531453
D162: VV | F162: "drenáž" (12*2+8*2)*0,8*0,5 | H162: 16 | AT162: VV | AU162: 2 | AV162: 2 | AW162: True | AX162: 1 | AY162: ROZPOCET
C163: 257 | D163: K | E163: 180501111.S | F163: Spevnenie plôch mačinovaním plošným v rovine alebo na svahu do 1:5 | G163: m2 | H163: 60 | I163: 2.4 | J163: =ROUND(I163*H163,2) -> 144 | N163: znížená | O163: 0.152 | P163: =O163*H163 -> 9.12 | Q163: 0 | R163: =Q163*H163 -> 0 | S163: 0 | T163: =S163*H163 -> 0 | AR163: 4 | AT163: K | AU163: 2 | AY163: ROZPOCET | BE163: =IF(N163="základná",J163,0) -> 0 | BF163: =IF(N163="znížená",J163,0) -> 144 | BG163: =IF(N163="zákl. prenesená",J163,0) -> 0 | BH163: =IF(N163="zníž. prenesená",J163,0) -> 0 | BI163: =IF(N163="nulová",J163,0) -> 0 | BJ163: 2 | BK163: =ROUND(I163*H163,2) -> 144 | BL163: 4 | BM163: -1337415843
C164: 258 | D164: M | E164: 8441 | F164: Travex zatrávňovacia tvárnica zelená | G164: ks | H164: 240 | I164: 3.2 | J164: =ROUND(I164*H164,2) -> 768 | N164: znížená | O164: 0 | P164: =O164*H164 -> 0 | Q164: 0 | R164: =Q164*H164 -> 0 | S164: 0 | T164: =S164*H164 -> 0 | AR164: 8 | AT164: M | AU164: 2 | AY164: ROZPOCET | BE164: =IF(N164="základná",J164,0) -> 0 | BF164: =IF(N164="znížená",J164,0) -> 768 | BG164: =IF(N164="zákl. prenesená",J164,0) -> 0 | BH164: =IF(N164="zníž. prenesená",J164,0) -> 0 | BI164: =IF(N164="nulová",J164,0) -> 0 | BJ164: 2 | BK164: =ROUND(I164*H164,2) -> 768 | BL164: 4 | BM164: 1910754214
D165: VV | F165: 60/(0,5*0,5) | H165: 240 | AT165: VV | AU165: 2 | AV165: 2 | AW165: True | AX165: 1 | AY165: ROZPOCET
D166: D | E166: 2 | F166: Zakladanie | J166: =BK166 -> 8730.85 | P166: =SUM(P167:P181) -> 67.876255 | R166: =SUM(R167:R181) -> 101.77122 | T166: =SUM(T167:T181) -> 0 | AR166: 1 | AT166: D | AU166: 1 | AY166: ROZPOCET | BK166: =SUM(BK167:BK181) -> 8730.85
C167: 255 | D167: K | E167: 212756111.S | F167: Trativody z flexodrenážnych rúr, DN 100 | G167: m | H167: 40 | I167: 3.07 | J167: =ROUND(I167*H167,2) -> 122.8 | N167: znížená | O167: 0.052655 | P167: =O167*H167 -> 2.1062 | Q167: 0.000441 | R167: =Q167*H167 -> 0.01764 | S167: 0 | T167: =S167*H167 -> 0 | AR167: 4 | AT167: K | AU167: 2 | AY167: ROZPOCET | BE167: =IF(N167="základná",J167,0) -> 0 | BF167: =IF(N167="znížená",J167,0) -> 122.8 | BG167: =IF(N167="zákl. prenesená",J167,0) -> 0 | BH167: =IF(N167="zníž. prenesená",J167,0) -> 0 | BI167: =IF(N167="nulová",J167,0) -> 0 | BJ167: 2 | BK167: =ROUND(I167*H167,2) -> 122.8 | BL167: 4 | BM167: 1668633912
D168: VV | F168: 12*2+8*2 | H168: 40 | AT168: VV | AU168: 2 | AV168: 2 | AW168: True | AX168: 1 | AY168: ROZPOCET
...

Sheet 2024_DH_03.1 - Vonkajší v...
L2: >> skryté stĺpce << | AT2: {229b92ef-a561-41c4-b04a-45834d8de601}
AT3: 0
D4: KRYCÍ LIST ROZPOČTU | M4: v --- nižšie sa nachádzajú doplnkové a pomocné údaje k zostavám --- v | AT4: False
D6: Stavba:
E7: ='Rekapitulácia stavby'!K6 -> PSBU - Podbanské, Rekreačný objekt
D8: Objekt:
E9: 2024_DH_03.1 - Vonkajší vodovod a kanalizácia
D11: JKSO: | I11: KS:
D12: Miesto: | F12: Pribylina | I12: Dátum: | J12: ='Rekapitulácia stavby'!AN8 -> 1. 3. 2024
D14: Objednávateľ: | I14: IČO:
E15: PSBU | I15: IČ DPH:
D17: Zhotoviteľ: | I17: IČO:
E18: Na základe výberového konania | I18: IČ DPH:
D20: Projektant: | I20: IČO:
E21: Mgr. Art. Matej BLAŽEK | I21: IČ DPH:
D23: Spracovateľ: | I23: IČO: | J23: =IF('Rekapitulácia stavby'!AN19="","",'Rekapitulácia stavby'!AN19)
E24: =IF('Rekapitulácia stavby'!E20="","",'Rekapitulácia stavby'!E20) | I24: IČ DPH: | J24: =IF('Rekapitulácia stavby'!AN20="","",'Rekapitulácia stavby'!AN20)
D26: Poznámka:
D30: Náklady z rozpočtu | J30: =J96 -> 16295.92
D31: Ostatné náklady | J31: =J105 -> 0
D32: Cena bez DPH | J32: =ROUND(J30 + J31, 2) -> 16295.92
F34: Základ dane | I34: Sadzba dane | J34: Výška dane
D35: DPH | E35: základná | F35: =ROUND((SUM(BE105:BE106) + SUM(BE126:BE162)), 2) -> 0 | I35: 0.2 | J35: =ROUND(((SUM(BE105:BE106) + SUM(BE126:BE162))*I35), 2) -> 0
E36: znížená | F36: =ROUND((SUM(BF105:BF106) + SUM(BF126:BF162)), 2) -> 16295.92 | I36: 0.2 | J36: =ROUND(((SUM(BF105:BF106) + SUM(BF126:BF162))*I36), 2) -> 3259.18
E37: zákl. prenesená | F37: =ROUND((SUM(BG105:BG106) + SUM(BG126:BG162)), 2) -> 0 | I37: 0.2 | J37: =0 -> 0
E38: zníž. prenesená | F38: =ROUND((SUM(BH105:BH106) + SUM(BH126:BH162)), 2) -> 0 | I38: 0.2 | J38: =0 -> 0
E39: nulová | F39: =ROUND((SUM(BI105:BI106) + SUM(BI126:BI162)), 2) -> 0 | I39: 0 | J39: =0 -> 0
D41: Cena s DPH | G41: v | H41: EUR | J41: =SUM(J32:J39) -> 19555.1
D50: Projektant | G50: Spracovateľ
D61: Dátum a podpis: | F61: Pečiatka | G61: Dátum a podpis: | J61: Pečiatka
D65: Objednávateľ | G65: Zhotoviteľ
D76: Dátum a podpis: | F76: Pečiatka | G76: Dátum a podpis: | J76: Pečiatka
C82: REKAPITULÁCIA ROZPOČTU
C84: Stavba:
E85: =E7 -> PSBU - Podbanské, Rekreačný objekt
C86: Objekt:
E87: =E9 -> 2024_DH_03.1 - Vonkajší vodovod a kanalizácia
C89: Miesto: | F89: =F12 -> Pribylina | I89: Dátum: | J89: =IF(J12="","",J12) -> 1. 3. 2024
C91: Objednávateľ: | F91: =E15 -> PSBU | I91: Projektant: | J91: =E21 -> Mgr. Art. Matej BLAŽEK
C92: Zhotoviteľ: | F92: =IF(E18="","",E18) -> Na základe výberového konania | I92: Spracovateľ: | J92: =E24
C94: Kód dielu - Popis | J94: Cena celkom [EUR]
C96: 1) Náklady z rozpočtu | J96: =J126 -> 16295.92 | AU96: -1
D97: HSV - Práce a dodávky HSV | J97: =J127 -> 11944.62
D98: 1 - Zemné práce | J98: =J128 -> 3358.89
D99: 2 - Zakladanie | J99: =J141 -> 414.97
D100: 8 - Rúrové vedenie | J100: =J144 -> 8170.76
D101: PSV - Práce a dodávky PSV | J101: =J156 -> 4351.3
D102: 724 - Zdravotechnika - strojné vybavenie | J102: =J157 -> 4351.3
C105: 2) Ostatné náklady | J105: 0 | N105: DPH
C107: Celkové náklady za stavbu 1) + 2) | J107: =ROUND(J96+J105,2) -> 16295.92
C113: ROZPOČET
C115: Stavba:
E116: =E7 -> PSBU - Podbanské, Rekreačný objekt
C117: Objekt:
E118: =E9 -> 2024_DH_03.1 - Vonkajší vodovod a kanalizácia
C120: Miesto: | F120: =F12 -> Pribylina | I120: Dátum: | J120: =IF(J12="","",J12) -> 1. 3. 2024
C122: Objednávateľ: | F122: =E15 -> PSBU | I122: Projektant: | J122: =E21 -> Mgr. Art. Matej BLAŽEK
C123: Zhotoviteľ: | F123: =IF(E18="","",E18) -> Na základe výberového konania | I123: Spracovateľ: | J123: =E24
C125: PČ | D125: Typ | E125: Kód | F125: Popis | G125: MJ | H125: Množstvo | I125: J.cena [EUR] | J125: Cena celkom [EUR] | K125: Cenová sústava | N125: DPH | O125: J. Nh [h] | P125: Nh celkom [h] | Q125: J. hmotnosť [t] | R125: Hmotnosť celkom [t] | S125: J. suť [t] | T125: Suť Celkom [t]
C126: Náklady z rozpočtu | J126: =BK126 -> 16295.92 | P126: =P127+P156 -> 239.86526 | R126: =R127+R156 -> 37.599673 | T126: =T127+T156 -> 0 | AT126: D | AU126: -1 | BK126: =BK127+BK156 -> 16295.92
D127: D | E127: HSV | F127: Práce a dodávky HSV | J127: =BK127 -> 11944.62 | P127: =P128+P141+P144 -> 229.33465 | R127: =R128+R141+R144 -> 37.481203 | T127: =T128+T141+T144 -> 0 | AR127: 1 | AT127: D | AU127: 0 | AY127: ROZPOCET | BK127: =BK128+BK141+BK144 -> 11944.62
D128: D | E128: 1 | F128: Zemné práce | J128: =BK128 -> 3358.89 | P128: =SUM(P129:P140) -> 169.29 | R128: =SUM(R129:R140) -> 10.8 | T128: =SUM(T129:T140) -> 0 | AR128: 1 | AT128: D | AU128: 1 | AY128: ROZPOCET | BK128: =SUM(BK129:BK140) -> 3358.89
C129: 5 | D129: K | E129: 131301101.S | F129: Výkop nezapaženej jamy v hornine 4, do 100 m3 | G129: m3 | H129: 19 | I129: 21.63 | J129: =ROUND(I129*H129,2) -> 410.97 | N129: znížená | O129: 1.218 | P129: =O129*H129 -> 23.142 | Q129: 0 | R129: =Q129*H129 -> 0 | S129: 0 | T129: =S129*H129 -> 0 | AR129: 4 | AT129: K | AU129: 2 | AY129: ROZPOCET | BE129: =IF(N129="základná",J129,0) -> 0 | BF129: =IF(N129="znížená",J129,0) -> 410.97 | BG129: =IF(N129="zákl. prenesená",J129,0) -> 0 | BH129: =IF(N129="zníž. prenesená",J129,0) -> 0 | BI129: =IF(N129="nulová",J129,0) -> 0 | BJ129: 2 | BK129: =ROUND(I129*H129,2) -> 410.97 | BL129: 4 | BM129: 106695267
D130: VV | F130: "žumpa" 13 | H130: 13 | AT130: VV | AU130: 2 | AV130: 2 | AW130: True | AX130: 0 | AY130: ROZPOCET
D131: VV | F131: "vodovodná šachta" 1,5*2*2 | H131: 6 | AT131: VV | AU131: 2 | AV131: 2 | AW131: True | AX131: 0 | AY131: ROZPOCET
D132: VV | F132: Súčet | H132: 19 | AT132: VV | AU132: 2 | AV132: 4 | AW132: True | AX132: 1 | AY132: ROZPOCET
C133: 21 | D133: K | E133: 132301101.S | F133: Výkop ryhy do šírky 600 mm v horn.4 do 100 m3 | G133: m3 | H133: 30 | I133: 79.91 | J133: =ROUND(I133*H133,2) -> 2397.3 | N133: znížená | O133: 4.2 | P133: =O133*H133 -> 126 | Q133: 0 | R133: =Q133*H133 -> 0 | S133: 0 | T133: =S133*H133 -> 0 | AR133: 4 | AT133: K | AU133: 2 | AY133: ROZPOCET | BE133: =IF(N133="základná",J133,0) -> 0 | BF133: =IF(N133="znížená",J133,0) -> 2397.3 | BG133: =IF(N133="zákl. prenesená",J133,0) -> 0 | BH133: =IF(N133="zníž. prenesená",J133,0) -> 0 | BI133: =IF(N133="nulová",J133,0) -> 0 | BJ133: 2 | BK133: =ROUND(I133*H133,2) -> 2397.3 | BL133: 4 | BM133: -1415905380
D134: VV | F134: 20*1*1,5 | H134: 30 | AT134: VV | AU134: 2 | AV134: 2 | AW134: True | AX134: 1 | AY134: ROZPOCET
C135: 22 | D135: K | E135: 174101001.S | F135: Zásyp sypaninou so zhutnením jám, šachiet, rýh, zárezov alebo okolo objektov do 100 m3 | G135: m3 | H135: 24 | I135: 4.71 | J135: =ROUND(I135*H135,2) -> 113.04 | N135: znížená | O135: 0.242 | P135: =O135*H135 -> 5.808 | Q135: 0 | R135: =Q135*H135 -> 0 | S135: 0 | T135: =S135*H135 -> 0 | AR135: 4 | AT135: K | AU135: 2 | AY135: ROZPOCET | BE135: =IF(N135="základná",J135,0) -> 0 | BF135: =IF(N135="znížená",J135,0) -> 113.04 | BG135: =IF(N135="zákl. prenesená",J135,0) -> 0 | BH135: =IF(N135="zníž. prenesená",J135,0) -> 0 | BI135: =IF(N135="nulová",J135,0) -> 0 | BJ135: 2 | BK135: =ROUND(I135*H135,2) -> 113.04 | BL135: 4 | BM135: 460363640
D136: VV | F136: 24 | H136: 24 | AT136: VV | AU136: 2 | AV136: 2 | AW136: True | AX136: 1 | AY136: ROZPOCET
C137: 23 | D137: K | E137: 175101102.S | F137: Obsyp potrubia sypaninou z vhodných hornín 1 až 4 s prehodením sypaniny | G137: m3 | H137: 6 | I137: 35.67 | J137: =ROUND(I137*H137,2) -> 214.02 | N137: znížená | O137: 2.39 | P137: =O137*H137 -> 14.34 | Q137: 0 | R137: =Q137*H137 -> 0 | S137: 0 | T137: =S137*H137 -> 0 | AR137: 4 | AT137: K | AU137: 2 | AY137: ROZPOCET | BE137: =IF(N137="základná",J137,0) -> 0 | BF137: =IF(N137="znížená",J137,0) -> 214.02 | BG137: =IF(N137="zákl. prenesená",J137,0) -> 0 | BH137: =IF(N137="zníž. prenesená",J137,0) -> 0 | BI137: =IF(N137="nulová",J137,0) -> 0 | BJ137: 2 | BK137: =ROUND(I137*H137,2) -> 214.02 | BL137: 4 | BM137: 1790725481
D138: VV | F138: 20*1*0,3 | H138: 6 | AT138: VV | AU138: 2 | AV138: 2 | AW138: True | AX138: 1 | AY138: ROZPOCET
C139: 24 | D139: M | E139: 583310000600.S | F139: Kamenivo ťažené drobné frakcia 0-4 mm | G139: t | H139: 10.8 | I139: 20.7 | J139: =ROUND(I139*H139,2) -> 223.56 | N139: znížená | O139: 0 | P139: =O139*H139 -> 0 | Q139: 1 | R139: =Q139*H139 -> 10.8 | S139: 0 | T139: =S139*H139 -> 0 | AR139: 8 | AT139: M | AU139: 2 | AY139: ROZPOCET | BE139: =IF(N139="základná",J139,0) -> 0 | BF139: =IF(N139="znížená",J139,0) -> 223.56 | BG139: =IF(N139="zákl. prenesená",J139,0) -> 0 | BH139: =IF(N139="zníž. prenesená",J139,0) -> 0 | BI139: =IF(N139="nulová",J139,0) -> 0 | BJ139: 2 | BK139: =ROUND(I139*H139,2) -> 223.56 | BL139: 4 | BM139: 663635295
D140: VV | F140: 6*1,8 | H140: 10.8 | AT140: VV | AU140: 2 | AV140: 2 | AW140: True | AX140: 1 | AY140: ROZPOCET
D141: D | E141: 2 | F141: Zakladanie | J141: =BK141 -> 414.97 | P141: =SUM(P142:P143) -> 2.08998 | R141: =SUM(R142:R143) -> 8.0475667 | T141: =SUM(T142:T143) -> 0 | AR141: 1 | AT141: D | AU141: 1 | AY141: ROZPOCET | BK141: =SUM(BK142:BK143) -> 414.97
C142: 13 | D142: K | E142: 274313521.S | F142: Betón základových pásov, prostý tr. C 12/15 | G142: m3 | H142: 3.6 | I142: 115.27 | J142: =ROUND(I142*H142,2) -> 414.97 | N142: znížená | O142: 0.58055 | P142: =O142*H142 -> 2.08998 | Q142: 2.2354352 | R142: =Q142*H142 -> 8.0475667 | S142: 0 | T142: =S142*H142 -> 0 | AR142: 4 | AT142: K | AU142: 2 | AY142: ROZPOCET | BE142: =IF(N142="základná",J142,0) -> 0 | BF142: =IF(N142="znížená",J142,0) -> 414.97 | BG142: =IF(N142="zákl. prenesená",J142,0) -> 0 | BH142: =IF(N142="zníž. prenesená",J142,0) -> 0 | BI142: =IF(N142="nulová",J142,0) -> 0 | BJ142: 2 | BK142: =ROUND(I142*H142,2) -> 414.97 | BL142: 4 | BM142: 205819927
D143: VV | F143: "obetonovanie žumpy" (2*1,5+4*1,5)*2*0,2 | H143: 3.6 | AT143: VV | AU143: 2 | AV143: 2 | AW143: True | AX143: 1 | AY143: ROZPOCET
D144: D | E144: 8 | F144: Rúrové vedenie | J144: =BK144 -> 8170.76 | P144: =SUM(P145:P155) -> 57.95467 | R144: =SUM(R145:R155) -> 18.633636 | T144: =SUM(T145:T155) -> 0 | AR144: 1 | AT144: D | AU144: 1 | AY144: ROZPOCET | BK144: =SUM(BK145:BK155) -> 8170.76
C145: 17 | D145: K | E145: 871171218.S | F145: Montáž vodovodného RC potrubia z PE 100 RC SDR11 zváraného elektrotvarovkami D 32x3,0 mm | G145: m | H145: 15 | I145: 0.39 | J145: =ROUND(I145*H145,2) -> 5.85 | N145: znížená | O145: 0.016 | P145: =O145*H145 -> 0.24 | Q145: 0 | R145: =Q145*H145 -> 0 | S145: 0 | T145: =S145*H145 -> 0 | AR145: 4 | AT145: K | AU145: 2 | AY145: ROZPOCET | BE145: =IF(N145="základná",J145,0) -> 0 | BF145: =IF(N145="znížená",J145,0) -> 5.85 | BG145: =IF(N145="zákl. prenesená",J145,0) -> 0 | BH145: =IF(N145="zníž. prenesená",J145,0) -> 0 | BI145: =IF(N145="nulová",J145,0) -> 0 | BJ145: 2 | BK145: =ROUND(I145*H145,2) -> 5.85 | BL145: 4 | BM145: 1367402808
C146: 18 | D146: M | E146: 286130017000.S | F146: Rúra jednovrstvová na pitnú vodu SDR11, 32x3,0x100 m, materiál: PE 100 RC | G146: m | H146: 15 | I146: 2.73 | J146: =ROUND(I146*H146,2) -> 40.95 | N146: znížená | O146: 0 | P146: =O146*H146 -> 0 | Q146: 0.00028 | R146: =Q146*H146 -> 0.0042 | S146: 0 | T146: =S146*H146 -> 0 | AR146: 8 | AT146: M | AU146: 2 | AY146: ROZPOCET | BE146: =IF(N146="základná",J146,0) -> 0 | BF146: =IF(N146="znížená",J146,0) -> 40.95 | BG146: =IF(N146="zákl. prenesená",J146,0) -> 0 | BH146: =IF(N146="zníž. prenesená",J146,0) -> 0 | BI146: =IF(N146="nulová",J146,0) -> 0 | BJ146: 2 | BK146: =ROUND(I146*H146,2) -> 40.95 | BL146: 4 | BM146: 30546407
C147: 19 | D147: M | E147: 286530227100.S | F147: Elektrospojka PE 100, na vodu, plyn a kanalizáciu, SDR 11, D 32 mm | G147: ks | H147: 1.005 | I147: 6.31 | J147: =ROUND(I147*H147,2) -> 6.34 | N147: znížená | O147: 0 | P147: =O147*H147 -> 0 | Q147: 5e-05 | R147: =Q147*H147 -> 5.025e-05 | S147: 0 | T147: =S147*H147 -> 0 | AR147: 8 | AT147: M | AU147: 2 | AY147: ROZPOCET | BE147: =IF(N147="základná",J147,0) -> 0 | BF147: =IF(N147="znížená",J147,0) -> 6.34 | BG147: =IF(N147="zákl. prenesená",J147,0) -> 0 | BH147: =IF(N147="zníž. prenesená",J147,0) -> 0 | BI147: =IF(N147="nulová",J147,0) -> 0 | BJ147: 2 | BK147: =ROUND(I147*H147,2) -> 6.34 | BL147: 4 | BM147: -1516765037
C148: 20 | D148: K | E148: 871324204.S | F148: Potrubie kanalizačné hladké plnostenné PP SN 10 DN 150 | G148: m | H148: 20 | I148: 23.57 | J148: =ROUND(I148*H148,2) -> 471.4 | N148: znížená | O148: 0.062 | P148: =O148*H148 -> 1.24 | Q148: 0.00344663 | R148: =Q148*H148 -> 0.0689326 | S148: 0 | T148: =S148*H148 -> 0 | AR148: 4 | AT148: K | AU148: 2 | AY148: ROZPOCET | BE148: =IF(N148="základná",J148,0) -> 0 | BF148: =IF(N148="znížená",J148,0) -> 471.4 | BG148: =IF(N148="zákl. prenesená",J148,0) -> 0 | BH148: =IF(N148="zníž. prenesená",J148,0) -> 0 | BI148: =IF(N148="nulová",J148,0) -> 0 | BJ148: 2 | BK148: =ROUND(I148*H148,2) -> 471.4 | BL148: 4 | BM148: 686901175
C149: 6 | D149: K | E149: 893222111.S | F149: Šachta armatúrna z prostého betónu so stropom z dielcov vnútor. pôdorys. plochy nad 1,50 do 2,50 m2 | G149: ks | H149: 1 | I149: 1794.14 | J149: =ROUND(I149*H149,2) -> 1794.14 | N149: znížená | O149: 45.14567 | P149: =O149*H149 -> 45.14567 | Q149: 15.473553 | R149: =Q149*H149 -> 15.473553 | S149: 0 | T149: =S149*H149 -> 0 | AR149: 4 | AT149: K | AU149: 2 | AY149: ROZPOCET | BE149: =IF(N149="základná",J149,0) -> 0 | BF149: =IF(N149="znížená",J149,0) -> 1794.14 | BG149: =IF(N149="zákl. prenesená",J149,0) -> 0 | BH149: =IF(N149="zníž. prenesená",J149,0) -> 0 | BI149: =IF(N149="nulová",J149,0) -> 0 | BJ149: 2 | BK149: =ROUND(I149*H149,2) -> 1794.14 | BL149: 4 | BM149: -703096207
C150: 7 | D150: K | E150: 893301001.S | F150: Osadenie vodomernej šachty železobetónovej, hmotnosti do 3 t | G150: ks | H150: 1 | I150: 96.4 | J150: =ROUND(I150*H150,2) -> 96.4 | N150: znížená | O150: 3.779 | P150: =O150*H150 -> 3.779 | Q150: 0 | R150: =Q150*H150 -> 0 | S150: 0 | T150: =S150*H150 -> 0 | AR150: 4 | AT150: K | AU150: 2 | AY150: ROZPOCET | BE150: =IF(N150="základná",J150,0) -> 0 | BF150: =IF(N150="znížená",J150,0) -> 96.4 | BG150: =IF(N150="zákl. prenesená",J150,0) -> 0 | BH150: =IF(N150="zníž. prenesená",J150,0) -> 0 | BI150: =IF(N150="nulová",J150,0) -> 0 | BJ150: 2 | BK150: =ROUND(I150*H150,2) -> 96.4 | BL150: 4 | BM150: -559526992
C151: 8 | D151: M | E151: 594300000100.S | F151: Vodomerná a armatúrna šachta, objem 1,9 m3, železobetónová | G151: ks | H151: 1 | I151: 695.07 | J151: =ROUND(I151*H151,2) -> 695.07 | N151: znížená | O151: 0 | P151: =O151*H151 -> 0 | Q151: 2.8 | R151: =Q151*H151 -> 2.8 | S151: 0 | T151: =S151*H151 -> 0 | AR151: 8 | AT151: M | AU151: 2 | AY151: ROZPOCET | BE151: =IF(N151="základná",J151,0) -> 0 | BF151: =IF(N151="znížená",J151,0) -> 695.07 | BG151: =IF(N151="zákl. prenesená",J151,0) -> 0 | BH151: =IF(N151="zníž. prenesená",J151,0) -> 0 | BI151: =IF(N151="nulová",J151,0) -> 0 | BJ151: 2 | BK151: =ROUND(I151*H151,2) -> 695.07 | BL151: 4 | BM151: -1134485934
C152: 9 | D152: K | E152: 894170212.S | F152: Osadenie podzemnej plastovej nádrže na odpadovú vodu - žumpu od 8000 do 10000 l | G152: ks | H152: 1 | I152: 210.09 | J152: =ROUND(I152*H152,2) -> 210.09 | N152: znížená | O152: 7.05 | P152: =O152*H152 -> 7.05 | Q152: 0.0049 | R152: =Q152*H152 -> 0.0049 | S152: 0 | T152: =S152*H152 -> 0 | AR152: 4 | AT152: K | AU152: 2 | AY152: ROZPOCET | BE152: =IF(N152="základná",J152,0) -> 0 | BF152: =IF(N152="znížená",J152,0) -> 210.09 | BG152: =IF(N152="zákl. prenesená",J152,0) -> 0 | BH152: =IF(N152="zníž. prenesená",J152,0) -> 0 | BI152: =IF(N152="nulová",J152,0) -> 0 | BJ152: 2 | BK152: =ROUND(I152*H152,2) -> 210.09 | BL152: 4 | BM152: 1097623000
C153: 10 | D153: M | E153: 286610049900 | F153: Žumpy plastové hranaté, rozmer 2000x4000x1500 mm, objem 12000 l, pre obetónovanie, PLASTPRODUKT | G153: ks | H153: 1 | I153: 4708.05 | J153: =ROUND(I153*H153,2) -> 4708.05 | N153: znížená | O153: 0 | P153: =O153*H153 -> 0 | Q153: 0.277 | R153: =Q153*H153 -> 0.277 | S153: 0 | T153: =S153*H153 -> 0 | AR153: 8 | AT153: M | AU153: 2 | AY153: ROZPOCET | BE153: =IF(N153="základná",J153,0) -> 0 | BF153: =IF(N153="znížená",J153,0) -> 4708.05 | BG153: =IF(N153="zákl. prenesená",J153,0) -> 0 | BH153: =IF(N153="zníž. prenesená",J153,0) -> 0 | BI153: =IF(N153="nulová",J153,0) -> 0 | BJ153: 2 | BK153: =ROUND(I153*H153,2) -> 4708.05 | BL153: 4 | BM153: -1228934726
C154: 11 | D154: K | E154: 894170215.S | F154: Osadenie nadstavca pre nádrže na odpadovú vodu - žumpu | G154: ks | H154: 1 | I154: 10.96 | J154: =ROUND(I154*H154,2) -> 10.96 | N154: znížená | O154: 0.5 | P154: =O154*H154 -> 0.5 | Q154: 0 | R154: =Q154*H154 -> 0 | S154: 0 | T154: =S154*H154 -> 0 | AR154: 4 | AT154: K | AU154: 2 | AY154: ROZPOCET | BE154: =IF(N154="základná",J154,0) -> 0 | BF154: =IF(N154="znížená",J154,0) -> 10.96 | BG154: =IF(N154="zákl. prenesená",J154,0) -> 0 | BH154: =IF(N154="zníž. prenesená",J154,0) -> 0 | BI154: =IF(N154="nulová",J154,0) -> 0 | BJ154: 2 | BK154: =ROUND(I154*H154,2) -> 10.96 | BL154: 4 | BM154: 311442696
C155: 12 | D155: M | E155: 562410001320.S | F155: Otočný nadstavec pre plastové podzemné nádrže Mini DN 100 | G155: ks | H155: 1 | I155: 131.51 | J155: =ROUND(I155*H155,2) -> 131.51 | N155: znížená | O155: 0 | P155: =O155*H155 -> 0 | Q155: 0.005 | R155: =Q155*H155 -> 0.005 | S155: 0 | T155: =S155*H155 -> 0 | AR155: 8 | AT155: M | AU155: 2 | AY155: ROZPOCET | BE155: =IF(N155="základná",J155,0) -> 0 | BF155: =IF(N155="znížená",J155,0) -> 131.51 | BG155: =IF(N155="zákl. prenesená",J155,0) -> 0 | BH155: =IF(N155="zníž. prenesená",J155,0) -> 0 | BI155: =IF(N155="nulová",J155,0) -> 0 | BJ155: 2 | BK155: =ROUND(I155*H155,2) -> 131.51 | BL155: 4 | BM155: -1603647054
D156: D | E156: PSV | F156: Práce a dodávky PSV | J156: =BK156 -> 4351.3 | P156: =P157 -> 10.53061 | R156: =R157 -> 0.11847023 | T156: =T157 -> 0 | AR156: 2 | AT156: D | AU156: 0 | AY156: ROZPOCET | BK156: =BK157 -> 4351.3
D157: D | E157: 724 | F157: Zdravotechnika - strojné vybavenie | J157: =BK157 -> 4351.3 | P157: =SUM(P158:P162) -> 10.53061 | R157: =SUM(R158:R162) -> 0.11847023 | T157: =SUM(T158:T162) -> 0 | AR157: 2 | AT157: D | AU157: 1 | AY157: ROZPOCET | BK157: =SUM(BK158:BK162) -> 4351.3
C158: 14 | D158: K | E158: 7241321.R | F158: Vŕtaná studňa 22m komplet dodávka | G158: súb. | H158: 1 | I158: 3100 | J158: =ROUND(I158*H158,2) -> 3100 | N158: znížená | O158: 0.87105 | P158: =O158*H158 -> 0.87105 | Q158: 0.00168503 | R158: =Q158*H158 -> 0.00168503 | S158: 0 | T158: =S158*H158 -> 0 | AR158: 16 | AT158: K | AU158: 2 | AY158: ROZPOCET | BE158: =IF(N158="základná",J158,0) -> 0 | BF158: =IF(N158="znížená",J158,0) -> 3100 | BG158: =IF(N158="zákl. prenesená",J158,0) -> 0 | BH158: =IF(N158="zníž. prenesená",J158,0) -> 0 | BI158: =IF(N158="nulová",J158,0) -> 0 | BJ158: 2 | BK158: =ROUND(I158*H158,2) -> 3100 | BL158: 16 | BM158: 1287395097
C159: 1 | D159: K | E159: 724133006.S | F159: Montáž čerpadla vodovodného ručného so sacím košom a potrubím pre hĺbku studne 16-22 m | G159: ks | H159: 1 | I159: 458.66 | J159: =ROUND(I159*H159,2) -> 458.66 | N159: znížená | O159: 5.70825 | P159: =O159*H159 -> 5.70825 | Q159: 0.08362 | R159: =Q159*H159 -> 0.08362 | S159: 0 | T159: =S159*H159 -> 0 | AR159: 16 | AT159: K | AU159: 2 | AY159: ROZPOCET | BE159: =IF(N159="základná",J159,0) -> 0 | BF159: =IF(N159="znížená",J159,0) -> 458.66 | BG159: =IF(N159="zákl. prenesená",J159,0) -> 0 | BH159: =IF(N159="zníž. prenesená",J159,0) -> 0 | BI159: =IF(N159="nulová",J159,0) -> 0 | BJ159: 2 | BK159: =ROUND(I159*H159,2) -> 458.66 | BL159: 16 | BM159: -1424632039
C160: 2 | D160: M | E160: 426530000300.S | F160: Čerpadlo - pumpa ručná, stojanová, vnútorný priemer valca 75 mm | G160: ks | H160: 1 | I160: 218.33 | J160: =ROUND(I160*H160,2) -> 218.33 | N160: znížená | O160: 0 | P160: =O160*H160 -> 0 | Q160: 0.017 | R160: =Q160*H160 -> 0.017 | S160: 0 | T160: =S160*H160 -> 0 | AR160: 32 | AT160: M | AU160: 2 | AY160: ROZPOCET | BE160: =IF(N160="základná",J160,0) -> 0 | BF160: =IF(N160="znížená",J160,0) -> 218.33 | BG160: =IF(N160="zákl. prenesená",J160,0) -> 0 | BH160: =IF(N160="zníž. prenesená",J160,0) -> 0 | BI160: =IF(N160="nulová",J160,0) -> 0 | BJ160: 2 | BK160: =ROUND(I160*H160,2) -> 218.33 | BL160: 16 | BM160: -329822707
C161: 3 | D161: K | E161: 724211102.S | F161: Montáž domovej vodárne od 50 do 100 L, s čerpadlom odstredivým horizontálnym so sacím košom, bez potrubia | G161: súb. | H161: 1 | I161: 121.46 | J161: =ROUND(I161*H161,2) -> 121.46 | N161: znížená | O161: 3.95131 | P161: =O161*H161 -> 3.95131 | Q161: 0.0026652 | R161: =Q161*H161 -> 0.0026652 | S161: 0 | T161: =S161*H161 -> 0 | AR161: 16 | AT161: K | AU161: 2 | AY161: ROZPOCET | BE161: =IF(N161="základná",J161,0) -> 0 | BF161: =IF(N161="znížená",J161,0) -> 121.46 | BG161: =IF(N161="zákl. prenesená",J161,0) -> 0 | BH161: =IF(N161="zníž. prenesená",J161,0) -> 0 | BI161: =IF(N161="nulová",J161,0) -> 0 | BJ161: 2 | BK161: =ROUND(I161*H161,2) -> 121.46 | BL161: 16 | BM161: -2044201376
C162: 4 | D162: M | E162: 426610000100.S | F162: Domáca vodáreň automatická s frekvenčným meničom, Q=4,8 m3/h, nasávacia výška max 7 m | G162: ks | H162: 1 | I162: 452.85 | J162: =ROUND(I162*H162,2) -> 452.85 | N162: znížená | O162: 0 | P162: =O162*H162 -> 0 | Q162: 0.0135 | R162: =Q162*H162 -> 0.0135 | S162: 0 | T162: =S162*H162 -> 0 | AR162: 32 | AT162: M | AU162: 2 | AY162: ROZPOCET | BE162: =IF(N162="základná",J162,0) -> 0 | BF162: =IF(N162="znížená",J162,0) -> 452.85 | BG162: =IF(N162="zákl. prenesená",J162,0) -> 0 | BH162: =IF(N162="zníž. prenesená",J162,0) -> 0 | BI162: =IF(N162="nulová",J162,0) -> 0 | BJ162: 2 | BK162: =ROUND(I162*H162,2) -> 452.85 | BL162: 16 | BM162: -1116690796

Sheet 2024_DH_03.2 - Elektrická...
L2: >> skryté stĺpce << | AT2: {52f1929e-5698-4f52-a598-c29da5862bd4}
AT3: 0
D4: KRYCÍ LIST ROZPOČTU | M4: v --- nižšie sa nachádzajú doplnkové a pomocné údaje k zostavám --- v | AT4: False
D6: Stavba:
E7: ='Rekapitulácia stavby'!K6 -> PSBU - Podbanské, Rekreačný objekt
D8: Objekt:
E9: 2024_DH_03.2 - Elektrická prípojka
D11: JKSO: | I11: KS:
D12: Miesto: | F12: Pribylina | I12: Dátum: | J12: ='Rekapitulácia stavby'!AN8 -> 1. 3. 2024
D14: Objednávateľ: | I14: IČO:
E15: PSBU | I15: IČ DPH:
D17: Zhotoviteľ: | I17: IČO:
E18: Na základe výberového konania | I18: IČ DPH:
D20: Projektant: | I20: IČO:
E21: Mgr. Art. Matej BLAŽEK | I21: IČ DPH:
D23: Spracovateľ: | I23: IČO: | J23: =IF('Rekapitulácia stavby'!AN19="","",'Rekapitulácia stavby'!AN19)
E24: =IF('Rekapitulácia stavby'!E20="","",'Rekapitulácia stavby'!E20) | I24: IČ DPH: | J24: =IF('Rekapitulácia stavby'!AN20="","",'Rekapitulácia stavby'!AN20)
D26: Poznámka:
D30: Náklady z rozpočtu | J30: =J96 -> 11059.96
D31: Ostatné náklady | J31: =J103 -> 0
D32: Cena bez DPH | J32: =ROUND(J30 + J31, 2) -> 11059.96
F34: Základ dane | I34: Sadzba dane | J34: Výška dane
D35: DPH | E35: základná | F35: =ROUND((SUM(BE103:BE104) + SUM(BE124:BE151)), 2) -> 0 | I35: 0.2 | J35: =ROUND(((SUM(BE103:BE104) + SUM(BE124:BE151))*I35), 2) -> 0
E36: znížená | F36: =ROUND((SUM(BF103:BF104) + SUM(BF124:BF151)), 2) -> 11059.96 | I36: 0.2 | J36: =ROUND(((SUM(BF103:BF104) + SUM(BF124:BF151))*I36), 2) -> 2211.99
E37: zákl. prenesená | F37: =ROUND((SUM(BG103:BG104) + SUM(BG124:BG151)), 2) -> 0 | I37: 0.2 | J37: =0 -> 0
E38: zníž. prenesená | F38: =ROUND((SUM(BH103:BH104) + SUM(BH124:BH151)), 2) -> 0 | I38: 0.2 | J38: =0 -> 0
E39: nulová | F39: =ROUND((SUM(BI103:BI104) + SUM(BI124:BI151)), 2) -> 0 | I39: 0 | J39: =0 -> 0
D41: Cena s DPH | G41: v | H41: EUR | J41: =SUM(J32:J39) -> 13271.95
D50: Projektant | G50: Spracovateľ
D61: Dátum a podpis: | F61: Pečiatka | G61: Dátum a podpis: | J61: Pečiatka
D65: Objednávateľ | G65: Zhotoviteľ
D76: Dátum a podpis: | F76: Pečiatka | G76: Dátum a podpis: | J76: Pečiatka
C82: REKAPITULÁCIA ROZPOČTU
C84: Stavba:
E85: =E7 -> PSBU - Podbanské, Rekreačný objekt
C86: Objekt:
E87: =E9 -> 2024_DH_03.2 - Elektrická prípojka
C89: Miesto: | F89: =F12 -> Pribylina | I89: Dátum: | J89: =IF(J12="","",J12) -> 1. 3. 2024
C91: Objednávateľ: | F91: =E15 -> PSBU | I91: Projektant: | J91: =E21 -> Mgr. Art. Matej BLAŽEK
C92: Zhotoviteľ: | F92: =IF(E18="","",E18) -> Na základe výberového konania | I92: Spracovateľ: | J92: =E24
C94: Kód dielu - Popis | J94: Cena celkom [EUR]
C96: 1) Náklady z rozpočtu | J96: =J124 -> 11059.96 | AU96: -1
D97: HSV - Práce a dodávky HSV | J97: =J125 -> 6389.94
D98: 1 - Zemné práce | J98: =J126 -> 6389.94
D99: M - Práce a dodávky M | J99: =J135 -> 4670.02
D100: 21-M - Elektromontáže | J100: =J136 -> 4670.02
C103: 2) Ostatné náklady | J103: 0 | N103: DPH
C105: Celkové náklady za stavbu 1) + 2) | J105: =ROUND(J96+J103,2) -> 11059.96
C111: ROZPOČET
C113: Stavba:
E114: =E7 -> PSBU - Podbanské, Rekreačný objekt
C115: Objekt:
E116: =E9 -> 2024_DH_03.2 - Elektrická prípojka
C118: Miesto: | F118: =F12 -> Pribylina | I118: Dátum: | J118: =IF(J12="","",J12) -> 1. 3. 2024
C120: Objednávateľ: | F120: =E15 -> PSBU | I120: Projektant: | J120: =E21 -> Mgr. Art. Matej BLAŽEK
C121: Zhotoviteľ: | F121: =IF(E18="","",E18) -> Na základe výberového konania | I121: Spracovateľ: | J121: =E24
C123: PČ | D123: Typ | E123: Kód | F123: Popis | G123: MJ | H123: Množstvo | I123: J.cena [EUR] | J123: Cena celkom [EUR] | K123: Cenová sústava | N123: DPH | O123: J. Nh [h] | P123: Nh celkom [h] | Q123: J. hmotnosť [t] | R123: Hmotnosť celkom [t] | S123: J. suť [t] | T123: Suť Celkom [t]
C124: Náklady z rozpočtu | J124: =BK124 -> 11059.96 | P124: =P125+P135 -> 353.083 | R124: =R125+R135 -> 32.65048 | T124: =T125+T135 -> 0 | AT124: D | AU124: -1 | BK124: =BK125+BK135 -> 11059.96
D125: D | E125: HSV | F125: Práce a dodávky HSV | J125: =BK125 -> 6389.94 | P125: =P126 -> 309.54 | R125: =R126 -> 32.4 | T125: =T126 -> 0 | AR125: 1 | AT125: D | AU125: 0 | AY125: ROZPOCET | BK125: =BK126 -> 6389.94
D126: D | E126: 1 | F126: Zemné práce | J126: =BK126 -> 6389.94 | P126: =SUM(P127:P134) -> 309.54 | R126: =SUM(R127:R134) -> 32.4 | T126: =SUM(T127:T134) -> 0 | AR126: 1 | AT126: D | AU126: 1 | AY126: ROZPOCET | BK126: =SUM(BK127:BK134) -> 6389.94
C127: 1 | D127: K | E127: 132301101.S | F127: Výkop ryhy do šírky 600 mm v horn.4 do 100 m3 | G127: m3 | H127: 60 | I127: 79.91 | J127: =ROUND(I127*H127,2) -> 4794.6 | N127: znížená | O127: 4.2 | P127: =O127*H127 -> 252 | Q127: 0 | R127: =Q127*H127 -> 0 | S127: 0 | T127: =S127*H127 -> 0 | AR127: 4 | AT127: K | AU127: 2 | AY127: ROZPOCET | BE127: =IF(N127="základná",J127,0) -> 0 | BF127: =IF(N127="znížená",J127,0) -> 4794.6 | BG127: =IF(N127="zákl. prenesená",J127,0) -> 0 | BH127: =IF(N127="zníž. prenesená",J127,0) -> 0 | BI127: =IF(N127="nulová",J127,0) -> 0 | BJ127: 2 | BK127: =ROUND(I127*H127,2) -> 4794.6 | BL127: 4 | BM127: 1744469247
D128: VV | F128: 150*0,4*1 | H128: 60 | AT128: VV | AU128: 2 | AV128: 2 | AW128: True | AX128: 1 | AY128: ROZPOCET
C129: 4 | D129: K | E129: 174101001.S | F129: Zásyp sypaninou so zhutnením jám, šachiet, rýh, zárezov alebo okolo objektov do 100 m3 | G129: m3 | H129: 60 | I129: 4.71 | J129: =ROUND(I129*H129,2) -> 282.6 | N129: znížená | O129: 0.242 | P129: =O129*H129 -> 14.52 | Q129: 0 | R129: =Q129*H129 -> 0 | S129: 0 | T129: =S129*H129 -> 0 | AR129: 4 | AT129: K | AU129: 2 | AY129: ROZPOCET | BE129: =IF(N129="základná",J129,0) -> 0 | BF129: =IF(N129="znížená",J129,0) -> 282.6 | BG129: =IF(N129="zákl. prenesená",J129,0) -> 0 | BH129: =IF(N129="zníž. prenesená",J129,0) -> 0 | BI129: =IF(N129="nulová",J129,0) -> 0 | BJ129: 2 | BK129: =ROUND(I129*H129,2) -> 282.6 | BL129: 4 | BM129: 1627905823
D130: VV | F130: 60 | H130: 60 | AT130: VV | AU130: 2 | AV130: 2 | AW130: True | AX130: 1 | AY130: ROZPOCET
C131: 2 | D131: K | E131: 175101102.S | F131: Obsyp potrubia sypaninou z vhodných hornín 1 až 4 s prehodením sypaniny | G131: m3 | H131: 18 | I131: 35.67 | J131: =ROUND(I131*H131,2) -> 642.06 | N131: znížená | O131: 2.39 | P131: =O131*H131 -> 43.02 | Q131: 0 | R131: =Q131*H131 -> 0 | S131: 0 | T131: =S131*H131 -> 0 | AR131: 4 | AT131: K | AU131: 2 | AY131: ROZPOCET | BE131: =IF(N131="základná",J131,0) -> 0 | BF131: =IF(N131="znížená",J131,0) -> 642.06 | BG131: =IF(N131="zákl. prenesená",J131,0) -> 0 | BH131: =IF(N131="zníž. prenesená",J131,0) -> 0 | BI131: =IF(N131="nulová",J131,0) -> 0 | BJ131: 2 | BK131: =ROUND(I131*H131,2) -> 642.06 | BL131: 4 | BM131: 66498488
D132: VV | F132: 150*0,4*0,3 | H132: 18 | AT132: VV | AU132: 2 | AV132: 2 | AW132: True | AX132: 1 | AY132: ROZPOCET
C133: 3 | D133: M | E133: 583310000600.S | F133: Kamenivo ťažené drobné frakcia 0-4 mm | G133: t | H133: 32.4 | I133: 20.7 | J133: =ROUND(I133*H133,2) -> 670.68 | N133: znížená | O133: 0 | P133: =O133*H133 -> 0 | Q133: 1 | R133: =Q133*H133 -> 32.4 | S133: 0 | T133: =S133*H133 -> 0 | AR133: 8 | AT133: M | AU133: 2 | AY133: ROZPOCET | BE133: =IF(N133="základná",J133,0) -> 0 | BF133: =IF(N133="znížená",J133,0) -> 670.68 | BG133: =IF(N133="zákl. prenesená",J133,0) -> 0 | BH133: =IF(N133="zníž. prenesená",J133,0) -> 0 | BI133: =IF(N133="nulová",J133,0) -> 0 | BJ133: 2 | BK133: =ROUND(I133*H133,2) -> 670.68 | BL133: 4 | BM133: 770347710
D134: VV | F134: 18*1,8 | H134: 32.4 | AT134: VV | AU134: 2 | AV134: 2 | AW134: True | AX134: 1 | AY134: ROZPOCET
D135: D | E135: M | F135: Práce a dodávky M | J135: =BK135 -> 4670.02 | P135: =P136 -> 43.543 | R135: =R136 -> 0.25048 | T135: =T136 -> 0 | AR135: 3 | AT135: D | AU135: 0 | AY135: ROZPOCET | BK135: =BK136 -> 4670.02
D136: D | E136: 21-M | F136: Elektromontáže | J136: =BK136 -> 4670.02 | P136: =SUM(P137:P151) -> 43.543 | R136: =SUM(R137:R151) -> 0.25048 | T136: =SUM(T137:T151) -> 0 | AR136: 3 | AT136: D | AU136: 1 | AY136: ROZPOCET | BK136: =SUM(BK137:BK151) -> 4670.02
C137: 8 | D137: K | E137: 210010576.S | F137: Rúrka ohybná elektroinštalačná UV stabilná bezhalogenová, D 54 uložená pevne | G137: m | H137: 150 | I137: 2.51 | J137: =ROUND(I137*H137,2) -> 376.5 | N137: znížená | O137: 0.117 | P137: =O137*H137 -> 17.55 | Q137: 0 | R137: =Q137*H137 -> 0 | S137: 0 | T137: =S137*H137 -> 0 | AR137: 64 | AT137: K | AU137: 2 | AY137: ROZPOCET | BE137: =IF(N137="základná",J137,0) -> 0 | BF137: =IF(N137="znížená",J137,0) -> 376.5 | BG137: =IF(N137="zákl. prenesená",J137,0) -> 0 | BH137: =IF(N137="zníž. prenesená",J137,0) -> 0 | BI137: =IF(N137="nulová",J137,0) -> 0 | BJ137: 2 | BK137: =ROUND(I137*H137,2) -> 376.5 | BL137: 64 | BM137: 1032455714
C138: 9 | D138: M | E138: 345710011405 | F138: Rúrka ohybná bezhalogénová APACS42 F25 na mechanickú ochranu káblov D 42,5 mm, čierna, PA, KOPOS | G138: m | H138: 150 | I138: 12.15 | J138: =ROUND(I138*H138,2) -> 1822.5 | N138: znížená | O138: 0 | P138: =O138*H138 -> 0 | Q138: 0.00021 | R138: =Q138*H138 -> 0.0315 | S138: 0 | T138: =S138*H138 -> 0 | AR138: 128 | AT138: M | AU138: 2 | AY138: ROZPOCET | BE138: =IF(N138="základná",J138,0) -> 0 | BF138: =IF(N138="znížená",J138,0) -> 1822.5 | BG138: =IF(N138="zákl. prenesená",J138,0) -> 0 | BH138: =IF(N138="zníž. prenesená",J138,0) -> 0 | BI138: =IF(N138="nulová",J138,0) -> 0 | BJ138: 2 | BK138: =ROUND(I138*H138,2) -> 1822.5 | BL138: 128 | BM138: 683656154
C139: 10 | D139: M | E139: 345710015800.S | F139: Spojka priama so závitom M50 z PA pre elektroinštal. rúrky, UV stabilná bezhalogénová samozhášavá, D 54 mm | G139: ks | H139: 0 | I139: 10.31 | J139: =ROUND(I139*H139,2) -> 0 | N139: znížená | O139: 0 | P139: =O139*H139 -> 0 | Q139: 9e-05 | R139: =Q139*H139 -> 0 | S139: 0 | T139: =S139*H139 -> 0 | AR139: 128 | AT139: M | AU139: 2 | AY139: ROZPOCET | BE139: =IF(N139="základná",J139,0) -> 0 | BF139: =IF(N139="znížená",J139,0) -> 0 | BG139: =IF(N139="zákl. prenesená",J139,0) -> 0 | BH139: =IF(N139="zníž. prenesená",J139,0) -> 0 | BI139: =IF(N139="nulová",J139,0) -> 0 | BJ139: 2 | BK139: =ROUND(I139*H139,2) -> 0 | BL139: 128 | BM139: 964648138
C140: 20 | D140: K | E140: 210100001.S | F140: Ukončenie vodičov v rozvádzač. vrátane zapojenia a vodič6ovej koncovky do 2,5 mm2 | G140: ks | H140: 8 | I140: 1.37 | J140: =ROUND(I140*H140,2) -> 10.96 | N140: znížená | O140: 0.064 | P140: =O140*H140 -> 0.512 | Q140: 0 | R140: =Q140*H140 -> 0 | S140: 0 | T140: =S140*H140 -> 0 | AR140: 64 | AT140: K | AU140: 2 | AY140: ROZPOCET | BE140: =IF(N140="základná",J140,0) -> 0 | BF140: =IF(N140="znížená",J140,0) -> 10.96 | BG140: =IF(N140="zákl. prenesená",J140,0) -> 0 | BH140: =IF(N140="zníž. prenesená",J140,0) -> 0 | BI140: =IF(N140="nulová",J140,0) -> 0 | BJ140: 2 | BK140: =ROUND(I140*H140,2) -> 10.96 | BL140: 64 | BM140: 217594964
C141: 21 | D141: M | E141: 354310017200.S | F141: Káblové oko medené lisovacie CU 0,75x3 KU-L | G141: ks | H141: 8 | I141: 0.24 | J141: =ROUND(I141*H141,2) -> 1.92 | N141: znížená | O141: 0 | P141: =O141*H141 -> 0 | Q141: 3e-05 | R141: =Q141*H141 -> 0.00024 | S141: 0 | T141: =S141*H141 -> 0 | AR141: 128 | AT141: M | AU141: 2 | AY141: ROZPOCET | BE141: =IF(N141="základná",J141,0) -> 0 | BF141: =IF(N141="znížená",J141,0) -> 1.92 | BG141: =IF(N141="zákl. prenesená",J141,0) -> 0 | BH141: =IF(N141="zníž. prenesená",J141,0) -> 0 | BI141: =IF(N141="nulová",J141,0) -> 0 | BJ141: 2 | BK141: =ROUND(I141*H141,2) -> 1.92 | BL141: 128 | BM141: 242075361
C142: 16 | D142: K | E142: 210100004.S | F142: Ukončenie vodičov v rozvádzač. vrátane zapojenia a vodičovej koncovky do 25 mm2 | G142: ks | H142: 8 | I142: 3.61 | J142: =ROUND(I142*H142,2) -> 28.88 | N142: znížená | O142: 0.168 | P142: =O142*H142 -> 1.344 | Q142: 0 | R142: =Q142*H142 -> 0 | S142: 0 | T142: =S142*H142 -> 0 | AR142: 64 | AT142: K | AU142: 2 | AY142: ROZPOCET | BE142: =IF(N142="základná",J142,0) -> 0 | BF142: =IF(N142="znížená",J142,0) -> 28.88 | BG142: =IF(N142="zákl. prenesená",J142,0) -> 0 | BH142: =IF(N142="zníž. prenesená",J142,0) -> 0 | BI142: =IF(N142="nulová",J142,0) -> 0 | BJ142: 2 | BK142: =ROUND(I142*H142,2) -> 28.88 | BL142: 64 | BM142: 989810186
C143: 17 | D143: M | E143: 345720004100.S | F143: Dutinka lisovacia DI 25-16 izolovaná | G143: ks | H143: 8 | I143: 0.15 | J143: =ROUND(I143*H143,2) -> 1.2 | N143: znížená | O143: 0 | P143: =O143*H143 -> 0 | Q143: 1e-05 | R143: =Q143*H143 -> 8e-05 | S143: 0 | T143: =S143*H143 -> 0 | AR143: 128 | AT143: M | AU143: 2 | AY143: ROZPOCET | BE143: =IF(N143="základná",J143,0) -> 0 | BF143: =IF(N143="znížená",J143,0) -> 1.2 | BG143: =IF(N143="zákl. prenesená",J143,0) -> 0 | BH143: =IF(N143="zníž. prenesená",J143,0) -> 0 | BI143: =IF(N143="nulová",J143,0) -> 0 | BJ143: 2 | BK143: =ROUND(I143*H143,2) -> 1.2 | BL143: 128 | BM143: 202300410
C144: 18 | D144: M | E144: 354310013100.S | F144: Káblové oko hliníkové lisovacie 25 Al 617064 | G144: ks | H144: 8 | I144: 0.65 | J144: =ROUND(I144*H144,2) -> 5.2 | N144: znížená | O144: 0 | P144: =O144*H144 -> 0 | Q144: 1e-05 | R144: =Q144*H144 -> 8e-05 | S144: 0 | T144: =S144*H144 -> 0 | AR144: 128 | AT144: M | AU144: 2 | AY144: ROZPOCET | BE144: =IF(N144="základná",J144,0) -> 0 | BF144: =IF(N144="znížená",J144,0) -> 5.2 | BG144: =IF(N144="zákl. prenesená",J144,0) -> 0 | BH144: =IF(N144="zníž. prenesená",J144,0) -> 0 | BI144: =IF(N144="nulová",J144,0) -> 0 | BJ144: 2 | BK144: =ROUND(I144*H144,2) -> 5.2 | BL144: 128 | BM144: -179741619
C145: 19 | D145: M | E145: 354310020500.S | F145: Káblové oko medené lisovacie CU 25x6 KU | G145: ks | H145: 8 | I145: 0.9 | J145: =ROUND(I145*H145,2) -> 7.2 | N145: znížená | O145: 0 | P145: =O145*H145 -> 0 | Q145: 1e-05 | R145: =Q145*H145 -> 8e-05 | S145: 0 | T145: =S145*H145 -> 0 | AR145: 128 | AT145: M | AU145: 2 | AY145: ROZPOCET | BE145: =IF(N145="základná",J145,0) -> 0 | BF145: =IF(N145="znížená",J145,0) -> 7.2 | BG145: =IF(N145="zákl. prenesená",J145,0) -> 0 | BH145: =IF(N145="zníž. prenesená",J145,0) -> 0 | BI145: =IF(N145="nulová",J145,0) -> 0 | BJ145: 2 | BK145: =ROUND(I145*H145,2) -> 7.2 | BL145: 128 | BM145: -1128011238
C146: 24 | D146: K | E146: 210193001.S | F146: Rozpájacia a istiaca plastová skriňa pilierová - typ SR 1 | G146: ks | H146: 1 | I146: 31.94 | J146: =ROUND(I146*H146,2) -> 31.94 | N146: znížená | O146: 1.487 | P146: =O146*H146 -> 1.487 | Q146: 0 | R146: =Q146*H146 -> 0 | S146: 0 | T146: =S146*H146 -> 0 | AR146: 64 | AT146: K | AU146: 2 | AY146: ROZPOCET | BE146: =IF(N146="základná",J146,0) -> 0 | BF146: =IF(N146="znížená",J146,0) -> 31.94 | BG146: =IF(N146="zákl. prenesená",J146,0) -> 0 | BH146: =IF(N146="zníž. prenesená",J146,0) -> 0 | BI146: =IF(N146="nulová",J146,0) -> 0 | BJ146: 2 | BK146: =ROUND(I146*H146,2) -> 31.94 | BL146: 64 | BM146: -1297906039
C147: 25 | D147: M | E147: 357110000100.S | F147: Skriňa rozpájacia a istiaca, plastová, pilierová SR 1 DIN00 VV 2x400A P2 | G147: ks | H147: 1 | I147: 721.72 | J147: =ROUND(I147*H147,2) -> 721.72 | N147: znížená | O147: 0 | P147: =O147*H147 -> 0 | Q147: 0.022 | R147: =Q147*H147 -> 0.022 | S147: 0 | T147: =S147*H147 -> 0 | AR147: 128 | AT147: M | AU147: 2 | AY147: ROZPOCET | BE147: =IF(N147="základná",J147,0) -> 0 | BF147: =IF(N147="znížená",J147,0) -> 721.72 | BG147: =IF(N147="zákl. prenesená",J147,0) -> 0 | BH147: =IF(N147="zníž. prenesená",J147,0) -> 0 | BI147: =IF(N147="nulová",J147,0) -> 0 | BJ147: 2 | BK147: =ROUND(I147*H147,2) -> 721.72 | BL147: 128 | BM147: -1562806302
C148: 14 | D148: K | E148: 210881452.S | F148: Kábel bezhalogénový, medený uložený voľne NHXCH-FE 180/E90 0,6/1,0 kV 3x1,5/1,5 | G148: m | H148: 150 | I148: 0.77 | J148: =ROUND(I148*H148,2) -> 115.5 | N148: znížená | O148: 0.036 | P148: =O148*H148 -> 5.4 | Q148: 0 | R148: =Q148*H148 -> 0 | S148: 0 | T148: =S148*H148 -> 0 | AR148: 64 | AT148: K | AU148: 2 | AY148: ROZPOCET | BE148: =IF(N148="základná",J148,0) -> 0 | BF148: =IF(N148="znížená",J148,0) -> 115.5 | BG148: =IF(N148="zákl. prenesená",J148,0) -> 0 | BH148: =IF(N148="zníž. prenesená",J148,0) -> 0 | BI148: =IF(N148="nulová",J148,0) -> 0 | BJ148: 2 | BK148: =ROUND(I148*H148,2) -> 115.5 | BL148: 64 | BM148: 522494377
... C151: 13 | D151: M | E151: 341110030500.S | F151: Kábel hliníkový 1-AYKY 4x25 mm2 | G151: m | H151: 150 | I151: 4 | J151: =ROUND(I151*H151,2) -> 600 | N151: znížená | O151: 0 | P151: =O151*H151 -> 0 | Q151: 0.00094 | R151: =Q151*H151 -> 0.141 | S151: 0 | T151: =S151*H151 -> 0 | AR151: 128 | AT151: M | AU151: 2 | AY151: ROZPOCET | BE151: =IF(N151="základná",J151,0) -> 0 | BF151: =IF(N151="znížená",J151,0) -> 600 | BG151: =IF(N151="zákl. prenesená",J151,0) -> 0 | BH151: =IF(N151="zníž. prenesená",J151,0) -> 0 | BI151: =IF(N151="nulová",J151,0) -> 0 | BJ151: 2 | BK151: =ROUND(I151*H151,2) -> 600 | BL151: 128 | BM151: 221935160

Sheet 2024_DH_03.3 - Interiér
L2: >> skryté stĺpce << | AT2: {fbe858fa-05de-49db-abc4-7c594291975e}
AT3: 0
D4: KRYCÍ LIST ROZPOČTU | M4: v --- nižšie sa nachádzajú doplnkové a pomocné údaje k zostavám --- v | AT4: False
D6: Stavba:
E7: ='Rekapitulácia stavby'!K6 -> PSBU - Podbanské, Rekreačný objekt
D8: Objekt:
E9: 2024_DH_03.3 - Interiér
D11: JKSO: | I11: KS:
D12: Miesto: | F12: Pribylina | I12: Dátum: | J12: ='Rekapitulácia stavby'!AN8 -> 1. 3. 2024
D14: Objednávateľ: | I14: IČO:
E15: PSBU | I15: IČ DPH:
D17: Zhotoviteľ: | I17: IČO:
E18: Na základe výberového konania | I18: IČ DPH:
D20: Projektant: | I20: IČO:
E21: Mgr. Art. Matej BLAŽEK | I21: IČ DPH:
D23: Spracovateľ: | I23: IČO: | J23: =IF('Rekapitulácia stavby'!AN19="","",'Rekapitulácia stavby'!AN19)
E24: =IF('Rekapitulácia stavby'!E20="","",'Rekapitulácia stavby'!E20) | I24: IČ DPH: | J24: =IF('Rekapitulácia stavby'!AN20="","",'Rekapitulácia stavby'!AN20)
D26: Poznámka:
D30: Náklady z rozpočtu | J30: =J96 -> 18805
D31: Ostatné náklady | J31: =J101 -> 0
D32: Cena bez DPH | J32: =ROUND(J30 + J31, 2) -> 18805
F34: Základ dane | I34: Sadzba dane | J34: Výška dane
D35: DPH | E35: základná | F35: =ROUND((SUM(BE101:BE102) + SUM(BE122:BE134)), 2) -> 0 | I35: 0.2 | J35: =ROUND(((SUM(BE101:BE102) + SUM(BE122:BE134))*I35), 2) -> 0
E36: znížená | F36: =ROUND((SUM(BF101:BF102) + SUM(BF122:BF134)), 2) -> 18805 | I36: 0.2 | J36: =ROUND(((SUM(BF101:BF102) + SUM(BF122:BF134))*I36), 2) -> 3761
E37: zákl. prenesená | F37: =ROUND((SUM(BG101:BG102) + SUM(BG122:BG134)), 2) -> 0 | I37: 0.2 | J37: =0 -> 0
E38: zníž. prenesená | F38: =ROUND((SUM(BH101:BH102) + SUM(BH122:BH134)), 2) -> 0 | I38: 0.2 | J38: =0 -> 0
E39: nulová | F39: =ROUND((SUM(BI101:BI102) + SUM(BI122:BI134)), 2) -> 0 | I39: 0 | J39: =0 -> 0
D41: Cena s DPH | G41: v | H41: EUR | J41: =SUM(J32:J39) -> 22566
D50: Projektant | G50: Spracovateľ
D61: Dátum a podpis: | F61: Pečiatka | G61: Dátum a podpis: | J61: Pečiatka
D65: Objednávateľ | G65: Zhotoviteľ
D76: Dátum a podpis: | F76: Pečiatka | G76: Dátum a podpis: | J76: Pečiatka
C82: REKAPITULÁCIA ROZPOČTU
C84: Stavba:
E85: =E7 -> PSBU - Podbanské, Rekreačný objekt
C86: Objekt:
E87: =E9 -> 2024_DH_03.3 - Interiér
C89: Miesto: | F89: =F12 -> Pribylina | I89: Dátum: | J89: =IF(J12="","",J12) -> 1. 3. 2024
C91: Objednávateľ: | F91: =E15 -> PSBU | I91: Projektant: | J91: =E21 -> Mgr. Art. Matej BLAŽEK
C92: Zhotoviteľ: | F92: =IF(E18="","",E18) -> Na základe výberového konania | I92: Spracovateľ: | J92: =E24
C94: Kód dielu - Popis | J94: Cena celkom [EUR]
C96: 1) Náklady z rozpočtu | J96: =J122 -> 18805 | AU96: -1
D97: PSV - Práce a dodávky PSV | J97: =J123 -> 18805
D98: 766 - Konštrukcie stolárske | J98: =J124 -> 18805
C101: 2) Ostatné náklady | J101: 0 | N101: DPH
C103: Celkové náklady za stavbu 1) + 2) | J103: =ROUND(J96+J101,2) -> 18805
C109: ROZPOČET
C111: Stavba:
E112: =E7 -> PSBU - Podbanské, Rekreačný objekt
C113: Objekt:
E114: =E9 -> 2024_DH_03.3 - Interiér
C116: Miesto: | F116: =F12 -> Pribylina | I116: Dátum: | J116: =IF(J12="","",J12) -> 1. 3. 2024
C118: Objednávateľ: | F118: =E15 -> PSBU | I118: Projektant: | J118: =E21 -> Mgr. Art. Matej BLAŽEK
C119: Zhotoviteľ: | F119: =IF(E18="","",E18) -> Na základe výberového konania | I119: Spracovateľ: | J119: =E24
C121: PČ | D121: Typ | E121: Kód | F121: Popis | G121: MJ | H121: Množstvo | I121: J.cena [EUR] | J121: Cena celkom [EUR] | K121: Cenová sústava | N121: DPH | O121: J. Nh [h] | P121: Nh celkom [h] | Q121: J. hmotnosť [t] | R121: Hmotnosť celkom [t] | S121: J. suť [t] | T121: Suť Celkom [t]
C122: Náklady z rozpočtu | J122: =BK122 -> 18805 | P122: =P123 -> 16.84615 | R122: =R123 -> 0.005226 | T122: =T123 -> 0 | AT122: D | AU122: -1 | BK122: =BK123 -> 18805
D123: D | E123: PSV | F123: Práce a dodávky PSV | J123: =BK123 -> 18805 | P123: =P124 -> 16.84615 | R123: =R124 -> 0.005226 | T123: =T124 -> 0 | AR123: 2 | AT123: D | AU123: 0 | AY123: ROZPOCET | BK123: =BK124 -> 18805
D124: D | E124: 766 | F124: Konštrukcie stolárske | J124: =BK124 -> 18805 | P124: =SUM(P125:P134) -> 16.84615 | R124: =SUM(R125:R134) -> 0.005226 | T124: =SUM(T125:T134) -> 0 | AR124: 2 | AT124: D | AU124: 1 | AY124: ROZPOCET | BK124: =SUM(BK125:BK134) -> 18805
C125: 1 | D125: K | E125: 766_R01 | F125: Postel drevená dvojpostel vrátane matraca 1600x1800 | G125: ks | H125: 3 | I125: 650 | J125: =ROUND(I125*H125,2) -> 1950 | N125: znížená | O125: 0.581 | P125: =O125*H125 -> 1.743 | Q125: 0.00018 | R125: =Q125*H125 -> 0.00054 | S125: 0 | T125: =S125*H125 -> 0 | AR125: 16 | AT125: K | AU125: 2 | AY125: ROZPOCET | BE125: =IF(N125="základná",J125,0) -> 0 | BF125: =IF(N125="znížená",J125,0) -> 1950 | BG125: =IF(N125="zákl. prenesená",J125,0) -> 0 | BH125: =IF(N125="zníž. prenesená",J125,0) -> 0 | BI125: =IF(N125="nulová",J125,0) -> 0 | BJ125: 2 | BK125: =ROUND(I125*H125,2) -> 1950 | BL125: 16 | BM125: 1694251204
C126: 10 | D126: K | E126: 766_R10 | F126: Kuchynská linkavrátane elektrospotrebičov, drezu, batérie | G126: ks | H126: 1 | I126: 6650 | J126: =ROUND(I126*H126,2) -> 6650 | N126: znížená | O126: 0.581 | P126: =O126*H126 -> 0.581 | Q126: 0.00018 | R126: =Q126*H126 -> 0.00018 | S126: 0 | T126: =S126*H126 -> 0 | AR126: 16 | AT126: K | AU126: 2 | AY126: ROZPOCET | BE126: =IF(N126="základná",J126,0) -> 0 | BF126: =IF(N126="znížená",J126,0) -> 6650 | BG126: =IF(N126="zákl. prenesená",J126,0) -> 0 | BH126: =IF(N126="zníž. prenesená",J126,0) -> 0 | BI126: =IF(N126="nulová",J126,0) -> 0 | BJ126: 2 | BK126: =ROUND(I126*H126,2) -> 6650 | BL126: 16 | BM126: 388526534
C127: 11 | D127: K | E127: 766_R11 | F127: Jedálenský stôl | G127: ks | H127: 1 | I127: 580 | J127: =ROUND(I127*H127,2) -> 580 | N127: znížená | O127: 0.58081 | P127: =O127*H127 -> 0.58081 | Q127: 0.0001804 | R127: =Q127*H127 -> 0.0001804 | S127: 0 | T127: =S127*H127 -> 0 | AR127: 16 | AT127: K | AU127: 2 | AY127: ROZPOCET | BE127: =IF(N127="základná",J127,0) -> 0 | BF127: =IF(N127="znížená",J127,0) -> 580 | BG127: =IF(N127="zákl. prenesená",J127,0) -> 0 | BH127: =IF(N127="zníž. prenesená",J127,0) -> 0 | BI127: =IF(N127="nulová",J127,0) -> 0 | BJ127: 2 | BK127: =ROUND(I127*H127,2) -> 580 | BL127: 16 | BM127: 2070630527
C128: 12 | D128: K | E128: 766_R12 | F128: Jedálenská stolička | G128: ks | H128: 10 | I128: 76.5 | J128: =ROUND(I128*H128,2) -> 765 | N128: znížená | O128: 0.58081 | P128: =O128*H128 -> 5.8081 | Q128: 0.0001804 | R128: =Q128*H128 -> 0.001804 | S128: 0 | T128: =S128*H128 -> 0 | AR128: 16 | AT128: K | AU128: 2 | AY128: ROZPOCET | BE128: =IF(N128="základná",J128,0) -> 0 | BF128: =IF(N128="znížená",J128,0) -> 765 | BG128: =IF(N128="zákl. prenesená",J128,0) -> 0 | BH128: =IF(N128="zníž. prenesená",J128,0) -> 0 | BI128: =IF(N128="nulová",J128,0) -> 0 | BJ128: 2 | BK128: =ROUND(I128*H128,2) -> 765 | BL128: 16 | BM128: 1121921909
C129: 13 | D129: K | E129: 766_R13 | F129: Rohová sedačka s konferečným stolíkom | G129: ks | H129: 2 | I129: 850 | J129: =ROUND(I129*H129,2) -> 1700 | N129: znížená | O129: 0.58081 | P129: =O129*H129 -> 1.16162 | Q129: 0.0001804 | R129: =Q129*H129 -> 0.0003608 | S129: 0 | T129: =S129*H129 -> 0 | AR129: 16 | AT129: K | AU129: 2 | AY129: ROZPOCET | BE129: =IF(N129="základná",J129,0) -> 0 | BF129: =IF(N129="znížená",J129,0) -> 1700 | BG129: =IF(N129="zákl. prenesená",J129,0) -> 0 | BH129: =IF(N129="zníž. prenesená",J129,0) -> 0 | BI129: =IF(N129="nulová",J129,0) -> 0 | BJ129: 2 | BK129: =ROUND(I129*H129,2) -> 1700 | BL129: 16 | BM129: 691383814
C130: 14 | D130: K | E130: 766_R14 | F130: THORMA Krbové kachle ANDORRA | G130: ks | H130: 2 | I130: 900 | J130: =ROUND(I130*H130,2) -> 1800 | N130: znížená | O130: 0.58081 | P130: =O130*H130 -> 1.16162 | Q130: 0.0001804 | R130: =Q130*H130 -> 0.0003608 | S130: 0 | T130: =S130*H130 -> 0 | AR130: 16 | AT130: K | AU130: 2 | AY130: ROZPOCET | BE130: =IF(N130="základná",J130,0) -> 0 | BF130: =IF(N130="znížená",J130,0) -> 1800 | BG130: =IF(N130="zákl. prenesená",J130,0) -> 0 | BH130: =IF(N130="zníž. prenesená",J130,0) -> 0 | BI130: =IF(N130="nulová",J130,0) -> 0 | BJ130: 2 | BK130: =ROUND(I130*H130,2) -> 1800 | BL130: 16 | BM130: 1989411629
C131: 2 | D131: K | E131: 766_R02 | F131: Trojsedačka | G131: ks | H131: 2 | I131: 450 | J131: =ROUND(I131*H131,2) -> 900 | N131: znížená | O131: 0.581 | P131: =O131*H131 -> 1.162 | Q131: 0.00018 | R131: =Q131*H131 -> 0.00036 | S131: 0 | T131: =S131*H131 -> 0 | AR131: 16 | AT131: K | AU131: 2 | AY131: ROZPOCET | BE131: =IF(N131="základná",J131,0) -> 0 | BF131: =IF(N131="znížená",J131,0) -> 900 | BG131: =IF(N131="zákl. prenesená",J131,0) -> 0 | BH131: =IF(N131="zníž. prenesená",J131,0) -> 0 | BI131: =IF(N131="nulová",J131,0) -> 0 | BJ131: 2 | BK131: =ROUND(I131*H131,2) -> 900 | BL131: 16 | BM131: -1116001609
C132: 3 | D132: K | E132: 766_R03 | F132: TV stolík | G132: ks | H132: 3 | I132: 340 | J132: =ROUND(I132*H132,2) -> 1020 | N132: znížená | O132: 0.581 | P132: =O132*H132 -> 1.743 | Q132: 0.00018 | R132: =Q132*H132 -> 0.00054 | S132: 0 | T132: =S132*H132 -> 0 | AR132: 16 | AT132: K | AU132: 2 | AY132: ROZPOCET | BE132: =IF(N132="základná",J132,0) -> 0 | BF132: =IF(N132="znížená",J132,0) -> 1020 | BG132: =IF(N132="zákl. prenesená",J132,0) -> 0 | BH132: =IF(N132="zníž. prenesená",J132,0) -> 0 | BI132: =IF(N132="nulová",J132,0) -> 0 | BJ132: 2 | BK132: =ROUND(I132*H132,2) -> 1020 | BL132: 16 | BM132: -1465541121
C133: 4 | D133: K | E133: 766_R04 | F133: LCD TV 43´ ´ | G133: ks | H133: 4 | I133: 400 | J133: =ROUND(I133*H133,2) -> 1600 | N133: znížená | O133: 0.581 | P133: =O133*H133 -> 2.324 | Q133: 0.00018 | R133: =Q133*H133 -> 0.00072 | S133: 0 | T133: =S133*H133 -> 0 | AR133: 16 | AT133: K | AU133: 2 | AY133: ROZPOCET | BE133: =IF(N133="základná",J133,0) -> 0 | BF133: =IF(N133="znížená",J133,0) -> 1600 | BG133: =IF(N133="zákl. prenesená",J133,0) -> 0 | BH133: =IF(N133="zníž. prenesená",J133,0) -> 0 | BI133: =IF(N133="nulová",J133,0) -> 0 | BJ133: 2 | BK133: =ROUND(I133*H133,2) -> 1600 | BL133: 16 | BM133: -974132248
C134: 5 | D134: K | E134: 766_R05 | F134: Vstavaný šatník | G134: ks | H134: 1 | I134: 1840 | J134: =ROUND(I134*H134,2) -> 1840 | N134: znížená | O134: 0.581 | P134: =O134*H134 -> 0.581 | Q134: 0.00018 | R134: =Q134*H134 -> 0.00018 | S134: 0 | T134: =S134*H134 -> 0 | AR134: 16 | AT134: K | AU134: 2 | AY134: ROZPOCET | BE134: =IF(N134="základná",J134,0) -> 0 | BF134: =IF(N134="znížená",J134,0) -> 1840 | BG134: =IF(N134="zákl. prenesená",J134,0) -> 0 | BH134: =IF(N134="zníž. prenesená",J134,0) -> 0 | BI134: =IF(N134="nulová",J134,0) -> 0 | BJ134: 2 | BK134: =ROUND(I134*H134,2) -> 1840 | BL134: 16 | BM134: 834923182
